BEGIN:VCALENDAR
VERSION:2.0
PRODID:-//bkimpedersen.dk - ECPv6.15.20//NONSGML v1.0//EN
CALSCALE:GREGORIAN
METHOD:PUBLISH
X-ORIGINAL-URL:https://bkimpedersen.dk
X-WR-CALDESC:Begivenheder for bkimpedersen.dk
REFRESH-INTERVAL;VALUE=DURATION:PT1H
X-Robots-Tag:noindex
X-PUBLISHED-TTL:PT1H
BEGIN:VTIMEZONE
TZID:Europe/Paris
BEGIN:DAYLIGHT
TZOFFSETFROM:+0100
TZOFFSETTO:+0200
TZNAME:CEST
DTSTART:20210328T010000
END:DAYLIGHT
BEGIN:STANDARD
TZOFFSETFROM:+0200
TZOFFSETTO:+0100
TZNAME:CET
DTSTART:20211031T010000
END:STANDARD
BEGIN:DAYLIGHT
TZOFFSETFROM:+0100
TZOFFSETTO:+0200
TZNAME:CEST
DTSTART:20220327T010000
END:DAYLIGHT
BEGIN:STANDARD
TZOFFSETFROM:+0200
TZOFFSETTO:+0100
TZNAME:CET
DTSTART:20221030T010000
END:STANDARD
BEGIN:DAYLIGHT
TZOFFSETFROM:+0100
TZOFFSETTO:+0200
TZNAME:CEST
DTSTART:20230326T010000
END:DAYLIGHT
BEGIN:STANDARD
TZOFFSETFROM:+0200
TZOFFSETTO:+0100
TZNAME:CET
DTSTART:20231029T010000
END:STANDARD
END:VTIMEZONE
BEGIN:VEVENT
DTSTART;TZID=Europe/Paris:20221119T100000
DTEND;TZID=Europe/Paris:20221120T170000
DTSTAMP:20260423T000433
CREATED:20220829T095136Z
LAST-MODIFIED:20220829T095136Z
UID:10000563-1668852000-1668963600@bkimpedersen.dk
SUMMARY:TEOSOFI I ASTROLOGIEN\, 3. MODUL af 4 Modul
DESCRIPTION:Teosofien i Astrologien\n \nDer er en lille video som fortælle om kurset:  https://youtu.be/9_RxyWJ-fr4 \n\n\nFå et overblik over hvordan Teosofien kan sættes sammen i et større forløb med astrologien. Specielt ved esoterisk astrologi\, kan det være en stor fordel at have et godt teosofisk overblik\, for eksempel om hvordan de forskellige legemer\, udviklingsperioder\, og kulturperioder hænger sammen. \n\n\nHar du lyst at være med på en rejse\, hvor teosofi og astrologi knyttes sammen\, så har du muligheden her. Vi kommer igennem 17 temaer fordelt på 4 moduler\, hvor den teosofiske lære og dens relation til astrologi bliver belyst.\nPå kurset vil du få et overblik over\, hvordan teosofien kan sættes sammen i et større forløb med astrologien. Specielt ved esoterisk astrologi kan det være en stor fordel at have et godt teosofisk overblik\, for eksempel om\, hvordan de forskellige legemer\, udviklingsperioder og kulturperioder hænger sammen. Vi fordyber os i den esoteriske psykologi gennem strålerne\, legemernes udvikling og på de fem store indvielser. Desuden gennemgås Døden og Livet i de indre verdener\, foruden solsystemet og dets relation til Dyrekredsen og de store stjernebilleder som Store Bjørn\, Sirius\, Orion og Pliaderne gennemgås. \nVi ser på de mennesketyper\, som har været på jorden\, og vi ser på engle\, ærkeengle og de hierarkier\, som vi er knytter til\, ligesom temaer som tjeneste og disciple skabets vej gennemgås. \nJeg har undervist i Teosofi i mange år og set hvordan astrologien og den esoteriske del af astrologien er konvertibel. Yderligere har jeg erfaret\, hvordan den hierarkiske astrologi lukker op i relation til de større indre hierarkier i teosofien .Derfor udbydes dette kursus. \n  \nKim Pedersen er en blændende foredragsholder og har arbejdet som medie i 25 år. Han har beskæftiget sig med en bred vifte af åndsvidenskabelige områder\, oprettet Astrologiskolen AttitudeAstrologi og Kabbalahskolen Qibel samt Meditationfor Esoterisk Norden.Se nærmere på hjemmesiden: www.bkimpedersen.dk \n\n\nPris pr. modul: 1200/1400 kr. for medlemmer/gæster.\nI prisen indgår kaffe\, the og lette traktementer. Frokosten sørger man selv for. \nTilmelding og betaling: Billetsystemet der er angivet nederst på siden.\nVed framelding tilbageholdes 100 kr. til administration.\nBemærk: Din plads er først reserveret\, når beløbet er modtaget. \n\n\n\nmodul 3 den 19. og søndag den 20. november 2022 kl.10-17 \nTeosofisk og astrologisk relation til ceremonier og religion\, Drømme og Healing\, Kosmologien – set gennem Teosofi og Astrologien med de 48 stjernebilleder\, Meditation og visualisering og relationen til tredje og niende hus\, gennem tvillingen og skytten. \nTeosofisk og astrologisk relation til ceremonier og religion\nTeosofien syn på de gamle verdens religioner og dens ritualer. Typisk set igennem den kristne religion i vores del af verden. Her sætter vi stråler og planeter på den syvarmede lysestage\, og ser på nogle af de ceremonier der gemmer sig bag sakramenter. Hvordan er de knyttet til astrologien og når vi lægger Horoskopcirkel ned – hvad ligger der bag disse store dybe ceremonier\, som man har brugt i flere tusind år? \nDrømme. Healing.\nHer vil vi se på drømmenes ophav. Vi kender dem fra astrologien i 12. hus og ligeledes gennem planeten Neptun\, men teosofien har også andre tanker omkring drømmene og med den udvikling vi gennemlever.\nEn stor del af helingen\, er også knyttet til dette område. Her tager vi udgangspunkt i esoterisk healing af Alice Bailey. \nKosmologien – set gennem Teosofien og Astrologien.\nKosmologien er et stort område indenfor den Teosofiske tradition\, så her skal vi have de 48. stjernebilleder med og deres relation til Store Bjørn\, Plejaderne\, Orion og Sirius. Vi ser på Jordens udvikling og dens kæder og runder\, og hvordan de hænger sammen med vores legemes udvikling. Hvordan hænger vi sammen med Solen og Jordens udvikling som en del af Sirius Solen igennem reinkarnation? Astrologien åbner her virkelig op for en større forståelse af de Teosofiske tanker\, som de er nedlagt gennem tiderne. \nMeditation og dens relationer til tredje og niende hus\, gennem tvillingen og skytten.\nEmnet Meditation bliver vendt\, og vi tager udgangspunkt i tredje hus og ligeledes niende hus. Vi ser på deres relation til at bygge en bro mellem de lavere og højere verdener og ligeledes hvad der sker længere ude i de store stjernesystemer\, som vi er en del af. Både meditation og visualisering bør bruges som værktøjer under tydning af andres horoskoper for at se\, hvad er det for planeter og huse\, der er vigtige at tage med ind i tydningen. \nID: 221119BKPkfyTFK \nModul 4: Lørdag den 21. og søndag den 22. januar 2023 kl.10-17
URL:https://bkimpedersen.dk/event/teosofi-i-astrologien-3-modul-af-4-modul/
LOCATION:Teosofisk Forening København\, Sankt Knuds Vej 27 A\, Frederiksberg C\, 1903\, Denmark
CATEGORIES:Astrologi,Teosofi
ATTACH;FMTTYPE=image/png:https://bkimpedersen.dk/wp-content/uploads/2022/07/Astrologi-billede-af-Kirsten.png
END:VEVENT
END:VCALENDAR