BEGIN:VCALENDAR
VERSION:2.0
PRODID:-//bkimpedersen.dk - ECPv6.15.20//NONSGML v1.0//EN
CALSCALE:GREGORIAN
METHOD:PUBLISH
X-WR-CALNAME:bkimpedersen.dk
X-ORIGINAL-URL:https://bkimpedersen.dk
X-WR-CALDESC:Begivenheder for bkimpedersen.dk
REFRESH-INTERVAL;VALUE=DURATION:PT1H
X-Robots-Tag:noindex
X-PUBLISHED-TTL:PT1H
BEGIN:VTIMEZONE
TZID:Europe/Paris
BEGIN:DAYLIGHT
TZOFFSETFROM:+0100
TZOFFSETTO:+0200
TZNAME:CEST
DTSTART:20220327T010000
END:DAYLIGHT
BEGIN:STANDARD
TZOFFSETFROM:+0200
TZOFFSETTO:+0100
TZNAME:CET
DTSTART:20221030T010000
END:STANDARD
BEGIN:DAYLIGHT
TZOFFSETFROM:+0100
TZOFFSETTO:+0200
TZNAME:CEST
DTSTART:20230326T010000
END:DAYLIGHT
BEGIN:STANDARD
TZOFFSETFROM:+0200
TZOFFSETTO:+0100
TZNAME:CET
DTSTART:20231029T010000
END:STANDARD
BEGIN:DAYLIGHT
TZOFFSETFROM:+0100
TZOFFSETTO:+0200
TZNAME:CEST
DTSTART:20240331T010000
END:DAYLIGHT
BEGIN:STANDARD
TZOFFSETFROM:+0200
TZOFFSETTO:+0100
TZNAME:CET
DTSTART:20241027T010000
END:STANDARD
END:VTIMEZONE
BEGIN:VEVENT
DTSTART;TZID=Europe/Paris:20230516T183000
DTEND;TZID=Europe/Paris:20230516T213000
DTSTAMP:20260420T061129
CREATED:20230416T155811Z
LAST-MODIFIED:20230416T161512Z
UID:10000699-1684261800-1684272600@bkimpedersen.dk
SUMMARY:Sol Astrologi foredrag i Orangeriet Middelfart
DESCRIPTION:Sol Astrologi foredrag  i Orangeriet   \n \ntirsdag d.16.maj kl. 18.30 – 21.30 \nHvordan Solen kan hjælpe os med at forstå vores personlighed og sjæl\n  \nSolen er en af de mest centrale astrologiske symboler\, der repræsenterer vores bevidste sjæl og personlighed. \nI dette foredrag vil vi udforske Sol Astrologi og hvordan det kan hjælpe os med at forstå vores personlighed og sjæl på dybere niveauer. \nVi vil se på Solen gennem de fire legemer\, og hvordan den påvirker vores adfærd og personlighed. \nVi vil også sætte Solens placering ind i et horoskop og dens betydning for vores liv og hvordan den modtager undervisning fra sjælen. \nGennem eksempler vil du have mulighed for at finde ud af hvor din sol oplyser dit liv her og nu. \nDette foredrag er ideelt for alle\, der ønsker at lære mere om astrologi og hvordan den kan hjælpe med personlig udvikling og selvindsigt. \nArrangementet er i Orangeriet\, hos MetteMO\, Slengeriksvej 5\, 5500 Middelfart \nForedraget pris kr.150. \nTilmelding er vigtig\, du er først med\, når du har haft kontakt til mig og betalt for denne dejlige aften \nTilmelding til: mette.mo@hotmail.com eller på mobil 61271701 \nMette Mo hjemmeside: https://www.mettemo.dk/event/4734/
URL:https://bkimpedersen.dk/event/sol-astrologi-foredrag-i-orangeriet-middelfart/
LOCATION:Center Gro Middelfart\, Slengeriksvej 5\, Middelfart\, Fyn\, 5500\, Denmark
CATEGORIES:Astrologi
ATTACH;FMTTYPE=image/jpeg:https://bkimpedersen.dk/wp-content/uploads/2012/12/images_attitude_zodiak-ur.jpg
END:VEVENT
END:VCALENDAR