BEGIN:VCALENDAR
VERSION:2.0
PRODID:-//bkimpedersen.dk - ECPv6.15.20//NONSGML v1.0//EN
CALSCALE:GREGORIAN
METHOD:PUBLISH
X-ORIGINAL-URL:https://bkimpedersen.dk
X-WR-CALDESC:Begivenheder for bkimpedersen.dk
REFRESH-INTERVAL;VALUE=DURATION:PT1H
X-Robots-Tag:noindex
X-PUBLISHED-TTL:PT1H
BEGIN:VTIMEZONE
TZID:Europe/Paris
BEGIN:DAYLIGHT
TZOFFSETFROM:+0100
TZOFFSETTO:+0200
TZNAME:CEST
DTSTART:20220327T010000
END:DAYLIGHT
BEGIN:STANDARD
TZOFFSETFROM:+0200
TZOFFSETTO:+0100
TZNAME:CET
DTSTART:20221030T010000
END:STANDARD
BEGIN:DAYLIGHT
TZOFFSETFROM:+0100
TZOFFSETTO:+0200
TZNAME:CEST
DTSTART:20230326T010000
END:DAYLIGHT
BEGIN:STANDARD
TZOFFSETFROM:+0200
TZOFFSETTO:+0100
TZNAME:CET
DTSTART:20231029T010000
END:STANDARD
BEGIN:DAYLIGHT
TZOFFSETFROM:+0100
TZOFFSETTO:+0200
TZNAME:CEST
DTSTART:20240331T010000
END:DAYLIGHT
BEGIN:STANDARD
TZOFFSETFROM:+0200
TZOFFSETTO:+0100
TZNAME:CET
DTSTART:20241027T010000
END:STANDARD
END:VTIMEZONE
BEGIN:VEVENT
DTSTART;TZID=Europe/Paris:20230606T190000
DTEND;TZID=Europe/Paris:20230606T213000
DTSTAMP:20260422T192313
CREATED:20230129T231107Z
LAST-MODIFIED:20230129T231107Z
UID:10000681-1686078000-1686087000@bkimpedersen.dk
SUMMARY:Det mentale tempel Online foredrag: FORDYBELSE I LYSET AF TEOSOFIEN
DESCRIPTION:Det mentale tempel\n \nOnline foredrag\nFORDYBELSE I LYSET AF TEOSOFIEN\nEfter at have undersøgt personlighedens relation til det fysiske\, æteriske og astrale legeme\, ser vi på det mentale legeme. Ifølge overleveringerne er et Visdommens Tempel placeret inde i dette center. Vi vil undersøge\, hvordan vi kan bearbejde disse vidunderlige mentale ressourcer. Teosofien tager ikke tit personligheden op som det store emne.\, Hvilke legemer skal personligheden bruge for at udvikle discipelskab på de tre planer? Det vil vi over en række foredrag kaste lys over. \nDette foredrag er det sidste af 5 – 5 foredrag om personligheden\, set fra forskellige vinkler. \nForedragene vil gøre brug af en bred vifte af åndsvidenskabelige kilder til at afdække sit emne. Selv om foredragene omkredser det samme emne\, personligheden\, set fra forskellige vinkler\, \n\nPris pr. online foredrag: 90/120 kr for medlemmer/gæster.\nTilmelding og betaling: Se billetter nederst under begivenheden. https://teosofiskforening.dk/begivenhed/online-foredrag-fordybelse-i-lyset-af-teosofien-5-ved-kim-pedersen/ \n 
URL:https://bkimpedersen.dk/event/det-mentale-tempel-online-foredrag-fordybelse-i-lyset-af-teosofien/
ATTACH;FMTTYPE=image/png:https://bkimpedersen.dk/wp-content/uploads/2019/07/Logoteosofi.png
END:VEVENT
END:VCALENDAR