BEGIN:VCALENDAR
VERSION:2.0
PRODID:-//bkimpedersen.dk - ECPv6.15.20//NONSGML v1.0//EN
CALSCALE:GREGORIAN
METHOD:PUBLISH
X-ORIGINAL-URL:https://bkimpedersen.dk
X-WR-CALDESC:Begivenheder for bkimpedersen.dk
REFRESH-INTERVAL;VALUE=DURATION:PT1H
X-Robots-Tag:noindex
X-PUBLISHED-TTL:PT1H
BEGIN:VTIMEZONE
TZID:Europe/Paris
BEGIN:DAYLIGHT
TZOFFSETFROM:+0100
TZOFFSETTO:+0200
TZNAME:CEST
DTSTART:20220327T010000
END:DAYLIGHT
BEGIN:STANDARD
TZOFFSETFROM:+0200
TZOFFSETTO:+0100
TZNAME:CET
DTSTART:20221030T010000
END:STANDARD
BEGIN:DAYLIGHT
TZOFFSETFROM:+0100
TZOFFSETTO:+0200
TZNAME:CEST
DTSTART:20230326T010000
END:DAYLIGHT
BEGIN:STANDARD
TZOFFSETFROM:+0200
TZOFFSETTO:+0100
TZNAME:CET
DTSTART:20231029T010000
END:STANDARD
BEGIN:DAYLIGHT
TZOFFSETFROM:+0100
TZOFFSETTO:+0200
TZNAME:CEST
DTSTART:20240331T010000
END:DAYLIGHT
BEGIN:STANDARD
TZOFFSETFROM:+0200
TZOFFSETTO:+0100
TZNAME:CET
DTSTART:20241027T010000
END:STANDARD
END:VTIMEZONE
BEGIN:VEVENT
DTSTART;TZID=Europe/Paris:20230626T190000
DTEND;TZID=Europe/Paris:20230626T220000
DTSTAMP:20260422T192352
CREATED:20230525T080057Z
LAST-MODIFIED:20230525T080057Z
UID:10000702-1687806000-1687816800@bkimpedersen.dk
SUMMARY:Teosofisk Sommerskole i Aalborg 2023
DESCRIPTION:Teosofisk Sommerskole i Aalborg 2023\n\nFem aftener med ”Hjertets Visdom”\nSommerskole med inspiration fra Asger Lorentsens bog\, ”Hjertets Visdom”. Asgers viede en stor del af sit liv til at studere hjertets mange kvaliteter\, herunder dets forhold til Indvielsens vej. Dets forbindelse til menneskeheden og dets forhold til de 12 hjerteblade\, der ligger i den egoiske lotus. Asgers bog vil tjene som et fundament for sommerskolen og give mulighed for at udforske hjertecentrets dybder. \nMeditation og visualiseringsteknikker vil blive brugt til at forbinde os med hjertecentret\, så vi åbner op for dets visdom og intuition. \nAnden aften mandag d. 26. juni \nHjertecentrets relation til intuitionen og Solsystemet. \nDenne aften vil vi bruge teosofien til at gå bag sjælen og møde os selv i Monaden\, også kaldet ånden. Vi vil se på\, hvordan ånden virker igennem vores højere selv\, som i kristendommen kaldes Guds søn. Vi vil sætte fokus på\, hvem vi er\, vores relation til kosmos og undersøge de hjertecentre\, der findes i kosmos. Vi vil blandt andet se på\, hvad solens hjertecenter er. \nPraktisk information\n\nHold nr: 231901\nFørste møde: 26.06.23 kl. 19:00\nMødegange: 1 Tilmeld\n\nTredje aften mandag d. 17. juli \nHjertecenterets relation til de nye centre. \nI aften tager vi på en spændende rejse\, hvor vi vil udforske hjertecentrets relation til de nye centre. Vi vil dykke ned i Enoks nøgler\, Asger og teosofiens visdom for at berige vores forståelse. Samtidig vil vi udforske muligheden for vækst og opdage nye svar\, der kan åbne op for en verden af nye muligheder i vores menneskelige eksistens. Dybere inde hjertecentret ligger sjælsriget\, der inviterer os til at udforske og forbinde os med en parallelverden. Vi vil udforske muligheden for at få indblik i sjælsriget og undersøge\, om vi allerede står i forbindelse med sjælsriget. \nPraktisk information\n\nHold nr: 231902\nFørste møde: 17.07.23 kl. 19:00\nMødegange: 1\n\nTilmeld \n  \nFjerde aften mandag d. 24. juli \nHjertecenterets forhold til solen og gruppeindvielser \nI aften fortsætter vi vores rejse med Asger og ser nærmere på den 14. regel for gruppeindvielser og gruppearbejde. Det er tydeligt\, at både Asger og Alice A. Bailey har stor interesse for dette gruppearbejde og dets forbindelse til kosmiske symboler som spiralen. Derfor vil vi i aften dykke dybere ned i hjertets hellige gemmesteder og måske endda nå til det ellevte blad. Mon der gemmer sig noget ekstraordinært bag dette blad\, som vi kan bruge til vores yderligere virke i menneskeriget? \nDU KAN IKKE TIL MELDE DIG I NU\, Kommer inden 1. juni \nFemte aften mandag d. 31. juli \nHjertets relation til det ene liv. \nI aften vil vi fokusere på det store tema om det ene liv i relation til Hjertecentret. Men hvordan forholder vi os til tanken om reinkarnation? Denne aften udforsker vi forbindelsen mellem reinkarnation og det ene liv. Du sidder måske og undrer dig over\, hvad det ene liv egentlig er? Er reinkarnation – et princip i verdensaltet\, der leder os hjem og hjælper med at finde vores nye vej i solsystemet og videre ud i Galaksen? Disse store temaer vil vi fokusere på denne aften. \nDU KAN IKKE TIL MELDE DIG I NU\, Kommer inden 1. juni \nSjette aften Bemærk – fredag d. 11. august \nBlavatsky fødselsdag ved Kirsten Puggaard \nBlavatskys teosofiske hovedværker \n ”Den Hemmelige Lære” og ”Nøgle til Teosofien” er et par af H.P. Blavatskys hovedværker. Det er bøger\, som udgjorde grundlaget for den teosofiske bevægelse\, og som faktisk var datidens ’bestsellere’. Indholdet i hendes værker udfordrede de traditionelle trosretninger og inviterede til overvejelser om vores forhold til det guddommelige\, naturen og hinanden. Ved at studere og forstå disse tekster kan vi åbne døren til en verden af esoterisk visdom og åndelig erkendelse. Blavatsky gjorde brug af 7 forskellige metoder – normale som paranormale – til sine litterære nedskrivninger: Beskrivende\, efter instruks\, gennem diktat\, gennem styret clairvoyance\, gennem psykometri\, gennem nedfældning og endelig ved hjælp af en proces\, som svarer til det budhistiske tulku\, der betyder ’udstrålingslegeme’. \n  \nUnderviser: Kirsten Puggaard \nTid: Alle aftener kl. 19-22.
URL:https://bkimpedersen.dk/event/teosofisk-sommerskole-i-aalborg-2023-2/
ATTACH;FMTTYPE=image/jpeg:https://bkimpedersen.dk/wp-content/uploads/2021/12/sopgang.jpeg
END:VEVENT
END:VCALENDAR