BEGIN:VCALENDAR
VERSION:2.0
PRODID:-//bkimpedersen.dk - ECPv6.15.20//NONSGML v1.0//EN
CALSCALE:GREGORIAN
METHOD:PUBLISH
X-ORIGINAL-URL:https://bkimpedersen.dk
X-WR-CALDESC:Begivenheder for bkimpedersen.dk
REFRESH-INTERVAL;VALUE=DURATION:PT1H
X-Robots-Tag:noindex
X-PUBLISHED-TTL:PT1H
BEGIN:VTIMEZONE
TZID:Europe/Copenhagen
BEGIN:DAYLIGHT
TZOFFSETFROM:+0100
TZOFFSETTO:+0200
TZNAME:CEST
DTSTART:20240331T010000
END:DAYLIGHT
BEGIN:STANDARD
TZOFFSETFROM:+0200
TZOFFSETTO:+0100
TZNAME:CET
DTSTART:20241027T010000
END:STANDARD
BEGIN:DAYLIGHT
TZOFFSETFROM:+0100
TZOFFSETTO:+0200
TZNAME:CEST
DTSTART:20250330T010000
END:DAYLIGHT
BEGIN:STANDARD
TZOFFSETFROM:+0200
TZOFFSETTO:+0100
TZNAME:CET
DTSTART:20251026T010000
END:STANDARD
BEGIN:DAYLIGHT
TZOFFSETFROM:+0100
TZOFFSETTO:+0200
TZNAME:CEST
DTSTART:20260329T010000
END:DAYLIGHT
BEGIN:STANDARD
TZOFFSETFROM:+0200
TZOFFSETTO:+0100
TZNAME:CET
DTSTART:20261025T010000
END:STANDARD
END:VTIMEZONE
BEGIN:VEVENT
DTSTART;TZID=Europe/Copenhagen:20250405T100000
DTEND;TZID=Europe/Copenhagen:20250406T170000
DTSTAMP:20260425T221231
CREATED:20250327T095557Z
LAST-MODIFIED:20250327T095557Z
UID:10000845-1743847200-1743958800@bkimpedersen.dk
SUMMARY:Design Astrologi i lyset fra Bodygraf  En Rejse ind i det nye Designe Horoskop teamet Månen knuderne
DESCRIPTION:**Design Astrologi i lyset fra Bodygraf\nMånen knuderne\n \nEn Rejse ind i den Nye Jordiske Æra**\nHar du lyst til at udfordre dig selv som astrolog og træde ind i et nyt astrologisk domæne? \nVi inviterer dig til at udforske Design Astrologi\, en banebrydende tilgang til astrologi skabt i lyset af den femte dimension\, som begyndte sin manifestation i 2012. \nI denne tid\, hvor en ny astrologisk æra tager form\, ønsker vi her at skabe en platform\, der åbner dørene for denne spændende udvikling. \nVi har planlagt et struktureret forløb\, inspireret af Raul Huus tanker\, der guider os gennem en rejse fra solen og jorden til månen og de to måneknuder. \n\n\n\nFjerde weekend: Måne kundernes magi \nErfaringer og udfordringerne \nVi skal nu lukke de to måneknuder op\, og kigge på dem i design horoskopet. \nDen sydlige knude: \nDen sydlige måneknude; Hvad har du mulighed for at hente i denne knude af erfaringer fra vores tidligere kroppe? Kroppen\, som vi har brugt rundt omkring på planeten og måske endda rundt omkring i universet. \nHer vil vi benytte os af de 7 strålers undervisning og ligeledes kigge på\, hvad er det for en stråle\, der ligger der? Hvad for et plan har du gjort erfaringer på\, som du ligesom kan se\, du vil bruge i dette liv\, som du nu er i gang med? \nDen nordlige Knude: \nNår vi ser ind i den nordlige knude\, så ser vi ligesom på\, hvad der forventes af os i denne nuværende periode\, i denne inkarnation. Så lad os se på hvad der ligger i denne knude? Hvilken stråle ligger og venter på at blive lukket op som en grundenergi\, som vi skal arbejde på? Hvilken mester? Hvilken engle orden ligger også bag denne knude og venter på et indre samarbejde med os ude i den ydre verden. Er der nogle transitter af de store planeter eller er der nogle konjunktioner eller andre aspekter der ligesom ligger og venter på os? \nPris 1550\,00 \nTilmelding og betaling Her \n 
URL:https://bkimpedersen.dk/event/design-astrologi-i-lyset-fra-bodygraf-en-rejse-ind-i-det-nye-designe-horoskop-teamet-maanen-knuderne/
LOCATION:Center Gro Middelfart\, Slengeriksvej 5\, Middelfart\, Fyn\, 5500\, Denmark
CATEGORIES:Astrologi,Teosofi
ATTACH;FMTTYPE=image/png:https://bkimpedersen.dk/wp-content/uploads/2022/07/Astrologi-billede-af-Kirsten.png
END:VEVENT
END:VCALENDAR