BEGIN:VCALENDAR
VERSION:2.0
PRODID:-//bkimpedersen.dk - ECPv6.15.20//NONSGML v1.0//EN
CALSCALE:GREGORIAN
METHOD:PUBLISH
X-ORIGINAL-URL:https://bkimpedersen.dk
X-WR-CALDESC:Begivenheder for bkimpedersen.dk
REFRESH-INTERVAL;VALUE=DURATION:PT1H
X-Robots-Tag:noindex
X-PUBLISHED-TTL:PT1H
BEGIN:VTIMEZONE
TZID:Europe/Copenhagen
BEGIN:DAYLIGHT
TZOFFSETFROM:+0100
TZOFFSETTO:+0200
TZNAME:CEST
DTSTART:20240331T010000
END:DAYLIGHT
BEGIN:STANDARD
TZOFFSETFROM:+0200
TZOFFSETTO:+0100
TZNAME:CET
DTSTART:20241027T010000
END:STANDARD
BEGIN:DAYLIGHT
TZOFFSETFROM:+0100
TZOFFSETTO:+0200
TZNAME:CEST
DTSTART:20250330T010000
END:DAYLIGHT
BEGIN:STANDARD
TZOFFSETFROM:+0200
TZOFFSETTO:+0100
TZNAME:CET
DTSTART:20251026T010000
END:STANDARD
BEGIN:DAYLIGHT
TZOFFSETFROM:+0100
TZOFFSETTO:+0200
TZNAME:CEST
DTSTART:20260329T010000
END:DAYLIGHT
BEGIN:STANDARD
TZOFFSETFROM:+0200
TZOFFSETTO:+0100
TZNAME:CET
DTSTART:20261025T010000
END:STANDARD
END:VTIMEZONE
BEGIN:VEVENT
DTSTART;TZID=Europe/Copenhagen:20251111T190000
DTEND;TZID=Europe/Copenhagen:20251111T213000
DTSTAMP:20260420T132935
CREATED:20250706T111651Z
LAST-MODIFIED:20250706T111651Z
UID:10000884-1762887600-1762896600@bkimpedersen.dk
SUMMARY:Din Indre Ørn – foredrag København
DESCRIPTION:Din Indre Ørn – foredrag\n\n11. november – 19:00 – 21:30\n\n\n\n\nLivet i Vore Indre Legemer \nI denne aftens stille stund i Teosofisk Forening København\, hvor efterårets mørke blidt omfavner os\, og Skorpionens dybe\, forvandlende energi vibrerer i hver en fiber af tilværelsen\, lad os sammen løfte blikket indad. Lad os væve de ældgamle tråde af teosofisk visdom\, Enoks himmelstiger fyldt med hemmeligheder\, Kabbalahs lysende stier mod enhed\, og astrologiens kosmiske dans ind i det kraftfulde billede af vores egen indre ørn. \nSpørgsmålet\, stille og eftertænksomt\, svæver i rummet som et ekko fra en fjern\, spirituel himmel: Flyver din indre ørn frit? Mærker du pulsen af liv i dine indre legemer\, de subtile energier der strømmer hinsides den fysiske form\, og som længes efter at blive udfoldet? \nSkorpionens tid udfordrer os til at se dybt ind i os selv\, til at konfrontere det\, der ligger skjult. Men det giver os også muligheden for en dyb transformation. Ved at forbinde os med vores indre lyslegeme\, ved at stræbe efter et højere perspektiv som den indre ørn\, kan vi navigere i denne intense tid med større visdom og styrke. \nLad os i denne november måned\, mens solen vandrer gennem skorpionens tegn\, huske på det potentiale for indre fornyelse\, der bor i os. Lad os nære vores indre lys og give vores indre ørn mulighed for at folde sine vinger ud og stige op mod en klarere horisont. \n  \nPris: 90/120 kr. for medlemmer/gæster.\nBetaling: Beløbet betales ved indgangen. \nDin Indre Ørn – foredrag v/ Kim Pedersen \n \n 
URL:https://bkimpedersen.dk/event/din-indre-oern-foredrag-koebenhavn/
LOCATION:Teosofisk Forening København\, Sankt Knuds Vej 27 A\, Frederiksberg C\, 1903\, Denmark
CATEGORIES:Teosofi
ATTACH;FMTTYPE=image/png:https://bkimpedersen.dk/wp-content/uploads/2025/06/ChatGPT-Image-14.-maj-2025-12.37.01.png
END:VEVENT
END:VCALENDAR