BEGIN:VCALENDAR
VERSION:2.0
PRODID:-//bkimpedersen.dk - ECPv6.15.20//NONSGML v1.0//EN
CALSCALE:GREGORIAN
METHOD:PUBLISH
X-ORIGINAL-URL:https://bkimpedersen.dk
X-WR-CALDESC:Begivenheder for bkimpedersen.dk
REFRESH-INTERVAL;VALUE=DURATION:PT1H
X-Robots-Tag:noindex
X-PUBLISHED-TTL:PT1H
BEGIN:VTIMEZONE
TZID:Europe/Paris
BEGIN:DAYLIGHT
TZOFFSETFROM:+0100
TZOFFSETTO:+0200
TZNAME:CEST
DTSTART:20210328T010000
END:DAYLIGHT
BEGIN:STANDARD
TZOFFSETFROM:+0200
TZOFFSETTO:+0100
TZNAME:CET
DTSTART:20211031T010000
END:STANDARD
BEGIN:DAYLIGHT
TZOFFSETFROM:+0100
TZOFFSETTO:+0200
TZNAME:CEST
DTSTART:20220327T010000
END:DAYLIGHT
BEGIN:STANDARD
TZOFFSETFROM:+0200
TZOFFSETTO:+0100
TZNAME:CET
DTSTART:20221030T010000
END:STANDARD
BEGIN:DAYLIGHT
TZOFFSETFROM:+0100
TZOFFSETTO:+0200
TZNAME:CEST
DTSTART:20230326T010000
END:DAYLIGHT
BEGIN:STANDARD
TZOFFSETFROM:+0200
TZOFFSETTO:+0100
TZNAME:CET
DTSTART:20231029T010000
END:STANDARD
END:VTIMEZONE
BEGIN:VEVENT
DTSTART;TZID=Europe/Paris:20221205T183000
DTEND;TZID=Europe/Paris:20221205T213000
DTSTAMP:20260422T200424
CREATED:20201116T071903Z
LAST-MODIFIED:20201121T162738Z
UID:10000598-1670265000-1670275800@bkimpedersen.dk
SUMMARY:Net aftener i forbindelse med  DISCIPELSKAB I DEN NYE TIDSALDER – BIND II: TF København
DESCRIPTION:DISCIPELSKAB I DEN NYE TIDSALDER – BIND II\nNet aften i forbindelses med kurset \n \nÅND OG UNIVERSEL INDSIGT \nKursusforløb over 2.år og som noget nyt er der 6. aften på nettet  \n  \nEn af de mest komplicerede udfordringer\, som nutidens spirituelle interesserede står over for er\, hvordan man omsætter århundreders visdomsteorier til praktisk hverdagshandling. Det kan være vanskeligt at frigøre sig fra den moderne verdens pligter og gøremål\, når du mærker et dybt råb indefra\, der ønsker opmærksomhed. Er der mon en større mening med den indre ubalance? Og kan du skabe en gylden middelvej. \nDet siges\, at den nye tidsalder varsler et sjælenes rige\, der bæres frem af en særlig grundtone\, nemlig gruppearbejde. Men hvordan kan man opmuntre verden til gruppeaktivitet\, når personligheden aldrig er blevet dyrket så meget som nu? Hvordan integrerer du din åndelighed i din hverdag\, således at du bliver i stand til at stå fast som en oplyst sjæl midt i travlheden? \nNu får du muligheden for at deltage i en række spændende studiedage. Vi tager udgangspunkt i Alice A. Baileys bog: ” Discipelskab i den nye tidsalder” bind II. Her beskrives\, hvordan du som spirituelt søgende kan følge dit indre kald og samtidig bevare dit fokus i den forpligtende hverdag. \nI dette andet bind af discipelskab bøgerne uddybes emnerne meditation og indvielse\, da det er 2 meget vigtige aspekter i disciplenes liv. Meditation beskrives som en metode\, der benyttes af Verdensherren til al skabelse\, og som er en metode for det enkelte menneske til at komme i nærmere kontakt med sit eget højere selv\, samt for en gruppe\, der ønsker at nærme sig Mesteren. \nDer beskrives\, hvordan indvielser kan finde praksis i menneskenes daglige liv. Disciplene indvies som resultat af flere bevidsthedsudvidelser\, hvor stadig større sammenhænge kan opfattes. Bevidstheden er til stadighed ekspanderende\, hvorved den gradvist bliver en del af vores planetariske livs bevidsthedsstrøm. Bevidsthedsudvidelse ledsages af en række åbenbaringer. Fem af sådanne åbenbaringer beskrives med symbolske formler og antydninger som hjælp til at opnå dybere indsigt i emnet. \nI undervisningen vil vi gøre brug af meditations- og visualiseringsøvelser\, samt en bred vifte af åndsvidenskabelige kilder. \nI løbet af to år afholdes 6 weekender med fysisk tilstedeværelse\, hvor vi gennemgår denne bogs indhold. Ind imellem weekenderne mødes vi en aften over nettet\, hvor meditationen gentages\, og vi drøfter\, om der er sket ændringer i din hverdag? Meditationerne lægges på YouTube\, så du får mulighed for at gentage dem\, så ofte du har lyst. \nDer gives også intro til et 15 år gammelt gruppelegeme over Norden. Dette vil foregå på nettet. \n  \nMødegange 2021 \nWeekender: 20.-21. februar\, 12.-13. juni\, og 16.-17. oktober kl. 10.15 – 16.45 \nNet møder mandag aftener: 12. april\, 16. august og 6. december kl. 18.30 – 21.30 \nMødegange 2022  \nWeekender: 5.-6. februar\, 4.-5. juni og 1.-2. oktober kl. 10.15 – 16.45 \nNet møder mandag aftener: 11. april\, 15. august og 5. december kl. 18.30 – 21.30 \nTilmelding er bindende for 3 weekender + 3 online aftener. \nPris for 3 weekender og 3 onlineaftener: 3.750/4.350 kr. for medlemmer/gæster. \nDer kan betales samlet eller pr. gang (en weekend + en onlineaften). \nØnsker du blot at tage en enkelt weekend med tilhørende aften er prisen: 1350/1550 kr. \nBeløbet bedes indbetalt 10 dage inden weekenden. \nI prisen indgår kaffe\, the og lette traktementer. Frokosten sørger man selv for. \nTilmelding nødvendig: tilmelding@teosofiskforening.dk. Oplys mail og tlf.nr. \nBetaling: Beløbet indbetales til reg. nr. 8401 kontonr. 0001063074 eller MobilePay 91597. Husk reference KPD + dit navn og tlf.nr. \nVed framelding tilbageholdes 100 kr. til administration. \nBemærk: Din plads er først reserveret\, når beløbet er modtaget. \nHvis kurset ikke kan afholdes fysisk pga. situationen\, vil det blive afholdt på GoogleMeet. \n  \n 
URL:https://bkimpedersen.dk/event/net-aftener-i-forbindelse-med-discipelskab-i-den-nye-tidsalder-bind-ii-tf-koebenhavn/2022-12-05/
CATEGORIES:Teosofi
ATTACH;FMTTYPE=image/jpeg:https://bkimpedersen.dk/wp-content/uploads/2019/05/logo_2015_1200.jpg
END:VEVENT
BEGIN:VEVENT
DTSTART;TZID=Europe/Paris:20221207T190000
DTEND;TZID=Europe/Paris:20221207T220000
DTSTAMP:20260422T200424
CREATED:20220718T095926Z
LAST-MODIFIED:20220919T094352Z
UID:10000551-1670439600-1670450400@bkimpedersen.dk
SUMMARY:Sol astrologi online modul 03
DESCRIPTION:Sol astrologi\nmodul 03\n\n\n3 ONSDAGE I december 2022 KL. 19-22\n(ONSDAGE DEN 7.12.\, 14.12. OG 21.12.)\nKUN 12 elever på undervisningsmodulet. \nHvad er et horoskop? \n* Hvordan laver man i praksis et horoskop? \n* Og hvordan ser man eller tolker på horoskopet? \n* Hvad betyder grad-tallene? \nHer introduceres nogle muligheder til\, hvordan du kan finde gratis horoskop-programmer\, der er tilgængelige på internettet\, og du lærer\, hvordan du selv sætter et horoskop op. Du lærer at orientere dig i et horoskop\, og hvad akserne betyder. Vi kigger også lidt på elementerne i et ‘hus’. \nHar du lyst til at få et indblik i Astrologiens Verden? Vi har valgt at lave dette BEGYNDER-hold for dig\, der INTET ved om astrologi (eller kun har snust lidt til det)\, men som gerne vil have et indblik i astrologi\, så det kan bruges i din hverdag og til at forstå nogle af de muligheder\, der ligger foran dig\, men samtidig også til at forstå hvorfor vi bliver udfordret på forskellige ting i livet. \nDu har sikkert læst dit horoskop i et ugeblad eller talt med andre om dit stjernetegn og er derfor ikke helt fremmed over for det. Ellers er det kun interesse og gåpåmod\, der kræves for at få et optimalt udbytte af dette undervisningsforløb\, som er online og foregår via Google meet. Vi optager hver lektion\, som vil blive tilgængelig i et lukket YouTube-forum\, hvor du har mulighed for i en periode på 3 måneder at se det igen. \nPå dette BEGYNDER-hold vil du blive introduceret til\, hvordan du laver dit horoskop\, og du vil få et overblik over de 12 stjernetegn\, deres relation til planeterne og de 12 livsområder eller huse. Du vil lære at tyde Solens bevægelse igennem de 12 tegn. \nHvert modul indeholder også en meditation\, således at du får mulighed for at sidde hjemme med lukkede øjne og forbinde dig med tegnene og planeterne. \n  \n\n* M3 *\n\n\n\n3 ONSDAGE I NOVEMBER 2022 KL. 19-22\n(ONSDAGE DEN 9.11.\, 16.11. OG 23.11.)\n MODUL 3 – De 12 huse  \n KØB HER> \nAstrologi er en mange tusind år gammel videnskab uddraget fra studier af stjernernes bevægelse og oldtidens studier af planeternes energimæssige påvirkning på mennesket\, udtrykt i en omfattende arketype-psykologi. \nVi skal nu se på de 12 livsområder eller de 12 huse\, som det hedder i astrologien\, og deres relation til psykologien. Mens vi stiller og roligt bevæger os fra hus til hus\, fra livsområde til livsområde\, ser vi på\, hvordan de 24 timer ligger i horoskopet. \nVi kombinerer huse med tegn og begynder så småt at kigge lidt på\, hvordan en astrolog arbejder med det håndværk\, som man kalder ‘tydningen’. \n(Onsdage den 7.12.\, 14.12. og 21.12.) \n  \n\n  \n\n* M4 *\n\n\n\n3 onsdage i december 2022 kl. 19-22\n MODUL 3 – Solens bevægelse    \nKØB HER>\n \nTydningskunsten er et håndværk\, der må læres. Og der må bruges intuition. Nu får du virkelig brug for de 3 kodeord\, som du lærte i modul 2\, og vi skal til at kombinere tegn og huse\, når vi ser på Solen\, som bevæger sig igennem Dyrekredsen. \nVi vil primært bruge deltagernes horoskoper\, hvis der er interesse for det. Hvis ikke deltagerne vil have tydet deres egne horoskoper\, vil vi selvfølgelig finde eksempler fra kendte personer. Også de forskellige landes horoskoper kan blive inddraget og analyseret. \n(Onsdage den 7.12.\, 14.12. og 21.12.) \n\nGRUNDSKOLE\, BEGYNDER: ingen forudsætninger \n  \n* Hvert modul er 9 timers dagsundervisning (inklusiv små pauser) fordelt på 3 onsdage fra kl.19-22. \nMODUL 3 – DELTAGERPRIS:  1000 DKK \n(November 2022: Onsdage den 9.11.\, 16.11. og 23.11.) \nMODUL 4 – DELTAGERPRIS:  1000 DKK \n(Onsdage den 11.1.\, 18.1. og 25.1.2023)
URL:https://bkimpedersen.dk/event/sol-astrologi-online-modul-03/2022-12-07/
CATEGORIES:Astrologi,Online skole for privat
ATTACH;FMTTYPE=image/webp:https://bkimpedersen.dk/wp-content/uploads/2021/12/Astrologi-modul3.webp
END:VEVENT
BEGIN:VEVENT
DTSTART;TZID=Europe/Paris:20221208T190000
DTEND;TZID=Europe/Paris:20221208T220000
DTSTAMP:20260422T200424
CREATED:20200606T173043Z
LAST-MODIFIED:20220908T095406Z
UID:10000570-1670526000-1670536800@bkimpedersen.dk
SUMMARY:Enoks hemmeligheder Forsætter i Aalborg
DESCRIPTION:Vi forsætter vores rejse gennem Enok nøgler \nVi starter ved nøgler  2 1 2 \nHen over efteråret 2022 fortsætter vi forårets spændende studiekreds\, hvor vi lader os inspirere af Hurtaks bog om Enoks nøgler og hemmeligheder.  Vi vil reflektere over stjernebillederne\, f.eks. Nordstjernen\, Orion\, Store Bjørn\, Plejaderne og de tolv tegn i dyrekredsen. \nEnoks hemmeligheder kan tage os med på en tusindårs lang rejse i den græske mytologi og den hebraiske Kabbalah. De kan fortælle os om visdommen bag ærkeenglenes virke\, om relationen til de mere moderne begreber som matematik og biokemi\, og om intuitionshuse omgivet af floder fulde af levende ild. Vi vil i studiekredsen anvende en bred vifte af åndsvidenskabelige kilder\, så har du lyst til at udfordre din bevidsthed med de hellige skrifters mere ukendte sider\, er denne kreds måske noget for dig \n\n\n\n\n\nPraktisk information\n\nHold nr. 222907\nFørste møde: 08.09.22 kl. 19:00\nSidste møde: 15.12.22 kl. 19:00\nMødegange: 5\n\nTilmeld \n\n\n\n\nTorsdag 29.09.22 kl. 19:00 – 22:00 \nSted: Den Rytmiske i Nordkraft\nTeglgårds Plads 1 – Niveau 7 \nLokale: lokale 5 \n\n\nTorsdag 27.10.22 kl. 19:00 – 22:00 \nSted: Den Rytmiske i Nordkraft\nTeglgårds Plads 1 – Niveau 7 \nLokale: lokale 5 \n\n\nTorsdag 24.11.22 kl. 19:00 – 22:00 \nSted: Den Rytmiske i Nordkraft\nTeglgårds Plads 1 – Niveau 7 \nLokale: lokale 5 \n\n\nTorsdag 15.12.22 kl. 19:00 – 22:00 \nSted: Den Rytmiske i Nordkraft\nTeglgårds Plads 1 – Niveau 7 \nLokale: lokale 5 \n\n\n\n\n\n\nPris\n\nAlmen DKK 770\,00\nPensionist DKK 655\,00\nHandicap DKK 655\,00\nkontanthjælps-modtager DKK 655\,00\nArbejdsledig DKK 655\,00\nStuderende DKK 655\,00\nUnge 18- 25 år DKK 655\,00
URL:https://bkimpedersen.dk/event/enoks-hemmeligheder/2022-12-08/
LOCATION:https://www.den-rytmiske-nordkraft.dk/\, Teglgaards Plads 1. 7.sal\,\, Aalborg\, 9000
CATEGORIES:Enok's Nøgler
ATTACH;FMTTYPE=image/jpeg:https://bkimpedersen.dk/wp-content/uploads/2019/11/Helenastrobillede1.jpg
END:VEVENT
BEGIN:VEVENT
DTSTART;TZID=Europe/Paris:20221214T190000
DTEND;TZID=Europe/Paris:20221214T220000
DTSTAMP:20260422T200424
CREATED:20220718T095926Z
LAST-MODIFIED:20220919T094352Z
UID:10000552-1671044400-1671055200@bkimpedersen.dk
SUMMARY:Sol astrologi online modul 03
DESCRIPTION:Sol astrologi\nmodul 03\n\n\n3 ONSDAGE I december 2022 KL. 19-22\n(ONSDAGE DEN 7.12.\, 14.12. OG 21.12.)\nKUN 12 elever på undervisningsmodulet. \nHvad er et horoskop? \n* Hvordan laver man i praksis et horoskop? \n* Og hvordan ser man eller tolker på horoskopet? \n* Hvad betyder grad-tallene? \nHer introduceres nogle muligheder til\, hvordan du kan finde gratis horoskop-programmer\, der er tilgængelige på internettet\, og du lærer\, hvordan du selv sætter et horoskop op. Du lærer at orientere dig i et horoskop\, og hvad akserne betyder. Vi kigger også lidt på elementerne i et ‘hus’. \nHar du lyst til at få et indblik i Astrologiens Verden? Vi har valgt at lave dette BEGYNDER-hold for dig\, der INTET ved om astrologi (eller kun har snust lidt til det)\, men som gerne vil have et indblik i astrologi\, så det kan bruges i din hverdag og til at forstå nogle af de muligheder\, der ligger foran dig\, men samtidig også til at forstå hvorfor vi bliver udfordret på forskellige ting i livet. \nDu har sikkert læst dit horoskop i et ugeblad eller talt med andre om dit stjernetegn og er derfor ikke helt fremmed over for det. Ellers er det kun interesse og gåpåmod\, der kræves for at få et optimalt udbytte af dette undervisningsforløb\, som er online og foregår via Google meet. Vi optager hver lektion\, som vil blive tilgængelig i et lukket YouTube-forum\, hvor du har mulighed for i en periode på 3 måneder at se det igen. \nPå dette BEGYNDER-hold vil du blive introduceret til\, hvordan du laver dit horoskop\, og du vil få et overblik over de 12 stjernetegn\, deres relation til planeterne og de 12 livsområder eller huse. Du vil lære at tyde Solens bevægelse igennem de 12 tegn. \nHvert modul indeholder også en meditation\, således at du får mulighed for at sidde hjemme med lukkede øjne og forbinde dig med tegnene og planeterne. \n  \n\n* M3 *\n\n\n\n3 ONSDAGE I NOVEMBER 2022 KL. 19-22\n(ONSDAGE DEN 9.11.\, 16.11. OG 23.11.)\n MODUL 3 – De 12 huse  \n KØB HER> \nAstrologi er en mange tusind år gammel videnskab uddraget fra studier af stjernernes bevægelse og oldtidens studier af planeternes energimæssige påvirkning på mennesket\, udtrykt i en omfattende arketype-psykologi. \nVi skal nu se på de 12 livsområder eller de 12 huse\, som det hedder i astrologien\, og deres relation til psykologien. Mens vi stiller og roligt bevæger os fra hus til hus\, fra livsområde til livsområde\, ser vi på\, hvordan de 24 timer ligger i horoskopet. \nVi kombinerer huse med tegn og begynder så småt at kigge lidt på\, hvordan en astrolog arbejder med det håndværk\, som man kalder ‘tydningen’. \n(Onsdage den 7.12.\, 14.12. og 21.12.) \n  \n\n  \n\n* M4 *\n\n\n\n3 onsdage i december 2022 kl. 19-22\n MODUL 3 – Solens bevægelse    \nKØB HER>\n \nTydningskunsten er et håndværk\, der må læres. Og der må bruges intuition. Nu får du virkelig brug for de 3 kodeord\, som du lærte i modul 2\, og vi skal til at kombinere tegn og huse\, når vi ser på Solen\, som bevæger sig igennem Dyrekredsen. \nVi vil primært bruge deltagernes horoskoper\, hvis der er interesse for det. Hvis ikke deltagerne vil have tydet deres egne horoskoper\, vil vi selvfølgelig finde eksempler fra kendte personer. Også de forskellige landes horoskoper kan blive inddraget og analyseret. \n(Onsdage den 7.12.\, 14.12. og 21.12.) \n\nGRUNDSKOLE\, BEGYNDER: ingen forudsætninger \n  \n* Hvert modul er 9 timers dagsundervisning (inklusiv små pauser) fordelt på 3 onsdage fra kl.19-22. \nMODUL 3 – DELTAGERPRIS:  1000 DKK \n(November 2022: Onsdage den 9.11.\, 16.11. og 23.11.) \nMODUL 4 – DELTAGERPRIS:  1000 DKK \n(Onsdage den 11.1.\, 18.1. og 25.1.2023)
URL:https://bkimpedersen.dk/event/sol-astrologi-online-modul-03/2022-12-14/
CATEGORIES:Astrologi,Online skole for privat
ATTACH;FMTTYPE=image/webp:https://bkimpedersen.dk/wp-content/uploads/2021/12/Astrologi-modul3.webp
END:VEVENT
BEGIN:VEVENT
DTSTART;TZID=Europe/Paris:20221220T190000
DTEND;TZID=Europe/Paris:20221220T220000
DTSTAMP:20260422T200424
CREATED:20221211T114640Z
LAST-MODIFIED:20221211T114640Z
UID:10000659-1671562800-1671573600@bkimpedersen.dk
SUMMARY:Jule ceremoni og kanalisering Aalborg
DESCRIPTION:Jule ceremoni og kanalisering.\n \nJule ceremoni og dens relation til livets tre\, Eller juletræet. Det er en gammel tradition i teosofisk forening\, Aalborg\, at vi igennem mange år har fejret denne tradition\, nemlig lyset\, der vender tilbage\, nu hvor solen igen har vendt oppe i den nordlige vendekreds. Og hvor dagene igen bliver længere\, og julen står lige for døren og nytårsaften\, lige som hellige 3 konger. Jo\, vi går ind i en meget stærk ceremoniel periode hen over hele foråret. I de gamle julesange synges det at julen varer lige til påske. Det gør den måske også hvis den ses i ceremoniel og rituel betydning. Derfor har vi en tradition med at tænde de her kugler\, som hænger på træet. Og disse kugler vil du blive præsenteret for denne aften som en ceremoniel tradition og hvor vi sende lyset ud igennem ceremoni for hele kloden. \nKanaliseringen efter. Det traditionen er Kim Pedersen holder en kanalisering. Den er aften. Hvor han tager kontakt ind i den antahkarana for at se om Der er nogen\, der ønsker at bringe et budskab til os til det nye år\, der plejer at blive talt om det år\, Vi er på vej indeni og ligeledes nogle åndelige begivenheder\, som finder sted på kloden og i solsystemet \nVi håber du har lyst til at se forbi denne aften på nordkraft 20. december 2022. \n—
URL:https://bkimpedersen.dk/event/jule-ceremoni-og-kanalisering-aalborg/
LOCATION:https://www.den-rytmiske-nordkraft.dk/\, Teglgaards Plads 1. 7.sal\,\, Aalborg\, 9000
CATEGORIES:Teosofi
ATTACH;FMTTYPE=image/jpeg:https://bkimpedersen.dk/wp-content/uploads/2021/12/sopgang.jpeg
END:VEVENT
BEGIN:VEVENT
DTSTART;TZID=Europe/Paris:20221221T190000
DTEND;TZID=Europe/Paris:20221221T220000
DTSTAMP:20260422T200424
CREATED:20220718T095926Z
LAST-MODIFIED:20220919T094352Z
UID:10000553-1671649200-1671660000@bkimpedersen.dk
SUMMARY:Sol astrologi online modul 03
DESCRIPTION:Sol astrologi\nmodul 03\n\n\n3 ONSDAGE I december 2022 KL. 19-22\n(ONSDAGE DEN 7.12.\, 14.12. OG 21.12.)\nKUN 12 elever på undervisningsmodulet. \nHvad er et horoskop? \n* Hvordan laver man i praksis et horoskop? \n* Og hvordan ser man eller tolker på horoskopet? \n* Hvad betyder grad-tallene? \nHer introduceres nogle muligheder til\, hvordan du kan finde gratis horoskop-programmer\, der er tilgængelige på internettet\, og du lærer\, hvordan du selv sætter et horoskop op. Du lærer at orientere dig i et horoskop\, og hvad akserne betyder. Vi kigger også lidt på elementerne i et ‘hus’. \nHar du lyst til at få et indblik i Astrologiens Verden? Vi har valgt at lave dette BEGYNDER-hold for dig\, der INTET ved om astrologi (eller kun har snust lidt til det)\, men som gerne vil have et indblik i astrologi\, så det kan bruges i din hverdag og til at forstå nogle af de muligheder\, der ligger foran dig\, men samtidig også til at forstå hvorfor vi bliver udfordret på forskellige ting i livet. \nDu har sikkert læst dit horoskop i et ugeblad eller talt med andre om dit stjernetegn og er derfor ikke helt fremmed over for det. Ellers er det kun interesse og gåpåmod\, der kræves for at få et optimalt udbytte af dette undervisningsforløb\, som er online og foregår via Google meet. Vi optager hver lektion\, som vil blive tilgængelig i et lukket YouTube-forum\, hvor du har mulighed for i en periode på 3 måneder at se det igen. \nPå dette BEGYNDER-hold vil du blive introduceret til\, hvordan du laver dit horoskop\, og du vil få et overblik over de 12 stjernetegn\, deres relation til planeterne og de 12 livsområder eller huse. Du vil lære at tyde Solens bevægelse igennem de 12 tegn. \nHvert modul indeholder også en meditation\, således at du får mulighed for at sidde hjemme med lukkede øjne og forbinde dig med tegnene og planeterne. \n  \n\n* M3 *\n\n\n\n3 ONSDAGE I NOVEMBER 2022 KL. 19-22\n(ONSDAGE DEN 9.11.\, 16.11. OG 23.11.)\n MODUL 3 – De 12 huse  \n KØB HER> \nAstrologi er en mange tusind år gammel videnskab uddraget fra studier af stjernernes bevægelse og oldtidens studier af planeternes energimæssige påvirkning på mennesket\, udtrykt i en omfattende arketype-psykologi. \nVi skal nu se på de 12 livsområder eller de 12 huse\, som det hedder i astrologien\, og deres relation til psykologien. Mens vi stiller og roligt bevæger os fra hus til hus\, fra livsområde til livsområde\, ser vi på\, hvordan de 24 timer ligger i horoskopet. \nVi kombinerer huse med tegn og begynder så småt at kigge lidt på\, hvordan en astrolog arbejder med det håndværk\, som man kalder ‘tydningen’. \n(Onsdage den 7.12.\, 14.12. og 21.12.) \n  \n\n  \n\n* M4 *\n\n\n\n3 onsdage i december 2022 kl. 19-22\n MODUL 3 – Solens bevægelse    \nKØB HER>\n \nTydningskunsten er et håndværk\, der må læres. Og der må bruges intuition. Nu får du virkelig brug for de 3 kodeord\, som du lærte i modul 2\, og vi skal til at kombinere tegn og huse\, når vi ser på Solen\, som bevæger sig igennem Dyrekredsen. \nVi vil primært bruge deltagernes horoskoper\, hvis der er interesse for det. Hvis ikke deltagerne vil have tydet deres egne horoskoper\, vil vi selvfølgelig finde eksempler fra kendte personer. Også de forskellige landes horoskoper kan blive inddraget og analyseret. \n(Onsdage den 7.12.\, 14.12. og 21.12.) \n\nGRUNDSKOLE\, BEGYNDER: ingen forudsætninger \n  \n* Hvert modul er 9 timers dagsundervisning (inklusiv små pauser) fordelt på 3 onsdage fra kl.19-22. \nMODUL 3 – DELTAGERPRIS:  1000 DKK \n(November 2022: Onsdage den 9.11.\, 16.11. og 23.11.) \nMODUL 4 – DELTAGERPRIS:  1000 DKK \n(Onsdage den 11.1.\, 18.1. og 25.1.2023)
URL:https://bkimpedersen.dk/event/sol-astrologi-online-modul-03/2022-12-21/
CATEGORIES:Astrologi,Online skole for privat
ATTACH;FMTTYPE=image/webp:https://bkimpedersen.dk/wp-content/uploads/2021/12/Astrologi-modul3.webp
END:VEVENT
BEGIN:VEVENT
DTSTART;TZID=Europe/Paris:20221227T100000
DTEND;TZID=Europe/Paris:20221228T160000
DTSTAMP:20260422T200424
CREATED:20221125T191051Z
LAST-MODIFIED:20221125T191051Z
UID:10000660-1672135200-1672243200@bkimpedersen.dk
SUMMARY:Julelyset i nye dimensioner jule kursus Aalborg
DESCRIPTION:Julelyset i nye dimensioner.\n  \nNordens lysarbejdere.\nTilmeld \nJulelyset i nye dimensioner. Nordens lysarbejdere. \nVi har igennem mange år været klar over\, at Norden har en opgave med at belive de nye centre i Norden\, som vi har lært at kende som kronechakraet. Og med de 3 nye centre ovenover kronecentret\, det ottende center\, det niende og det 10. center\, vil vi også arbejde med disse centres opgaver og se på deres plads i auraen. Det er en af vores opgaver her i Norden. Det kræver energi\, som igen kræver økonomi\, og når vi bruger ordet økonomi\, må vi tænke langt ud over penge. For eksempel tid\, lysarbejde og redskaber. Er der nye redskaber? I bogen Discipelskab og Økonomi er det nye redskab til lysarbejdet og åbningen til det ottende center i Auraen belyst. Lysarbejdernes kolleger\, og hvem er disse kolleger? Vi kommer til at bruge lidt tid på at gå dybere i arbejdet med at forstå disse nye kolleger\, som er i parallelle verdener ved siden af os. Vi kommer desuden l at se lidt dybere ind i alt det\, vi kalder involution. Og så se lidt på den betydning dette arbejde har for vore legemer\, vores bevidsthed og ikke mindst på kroppen. \nLucilles bog giver et godt indblik i\, hvordan disse store devaer/engle arbejder\, og hvordan vi har mulighed for at lære os at lære at samarbejde med disse parallelle verdener. Solengle. Ærkeengle\, Landskabs engle. Vi kommer til at se på deres arbejde i disse juledage.  Vi stiller spørgsmålet\, er lysarbejdere igang med en ny opdatering? \nFordybelse og meditation er en del af kurset. \nTilmeld \nPraktisk information\n\nHold nr. 222920\n\nPris Almen DKK 595\,00\n\nPensionist DKK 504\,00\nHandicap DKK 504\,00\nkontanthjælps-modtager DKK 504\,00\nArbejdsledig DKK 504\,00\nStuderende DKK 504\,00\nUnge 18- 25 år DKK 504\,00
URL:https://bkimpedersen.dk/event/julelyset-i-nye-dimensioner-jule-kursus-aalborg/
LOCATION:https://www.den-rytmiske-nordkraft.dk/\, Teglgaards Plads 1. 7.sal\,\, Aalborg\, 9000
CATEGORIES:Teosofi
ATTACH;FMTTYPE=image/jpeg:https://bkimpedersen.dk/wp-content/uploads/2019/11/Engle-fra-Assisi.jpg
END:VEVENT
BEGIN:VEVENT
DTSTART;TZID=Europe/Paris:20221229T100000
DTEND;TZID=Europe/Paris:20221230T160000
DTSTAMP:20260422T200424
CREATED:20221125T191824Z
LAST-MODIFIED:20221125T192432Z
UID:10000661-1672308000-1672416000@bkimpedersen.dk
SUMMARY:Julelyset i nye dimensioner jule kursus København
DESCRIPTION:Julelyset i nye dimensioner jule kursus \n \n  \n\n\nNordens lysarbejdere har opgaven med at belive 3 nye centre i Norden. “Discipelskab og økonomi” af Lucille Cederkrans viser vore partnere i parallel-verdenerne Ærkeengle\, Landskabsengle og Devaer. Ceremoniarbejde og meditation er en vigtig del af kurset. \n\n\nVi har igennem mange år været klar over\, at Norden er Kronechakret i Europa. Der er 3 nye centre over kronecentret\, det ottende center\, det niende og det tiende center\, og vi kommer ind på disse centres opgaver og deres plads i Auraen. \nNordens lysarbejdere har en opgave med at belive de nye centre i Norden. Energiarbejde kræver energi\, som igen kræver økonomi\, Økonomi betyder langt mere end penge\, for eksempel også tid og værktøjer. \nBogen “Discipelskab og økonomi” viser de nye værktøjer til lysarbejderne. Vi vil bruge tid på at gå dybere i nye kolleger\, som arbejder i parallelle verdener\, ved vores side. \nLucilles Cederkrans bog giver jo et godt indblik hvordan de store Deva- og Engleordner arbejder og hvordan vi lærer at samarbejde med de parallelle verdener\, med Solengle. Ærkeengle og Landskabs engle. \nVi ser dybere ind i det\, vi kalder involution\, og ser på det slid\, som disse opgaver gør ved vore legemer og vores bevidsthed. Vi kommer til at arbejde med dette i juledagene.  Er lysarbejdere i gang med en ny opdatering? Ceremoni arbejde og Meditation bliver en vigtig del af kurset. \nPris pr. modul: 1350/1550 kr. for medlemmer/gæster.\nI prisen indgår kaffe\, the og lette traktementer. Frokosten sørger man selv for. \nTilmelding og betaling: Billetsystemet der er angivet nederst på siden.\nVed framelding tilbageholdes 100 kr. til administration.\nBemærk: Din plads er først reserveret\, når beløbet er modtaget. \n\n\ntilmelding https://teosofiskforening.dk/begivenhed/julelyset-i-de-nye-dimensioner-kursus-ved-kim-pedersen/\n\nBillet Medlem\, Julelyset 29dec\n\n1.350\,00 kr. medlemmer\n\n\n\n\n\n1.550\,00 kr. ikke medlem 
URL:https://bkimpedersen.dk/event/julelyset-i-nye-dimensioner-jule-kursus-koebenhavn/
LOCATION:Teosofisk Forening København\, Sankt Knuds Vej 27 A\, Frederiksberg C\, 1903\, Denmark
CATEGORIES:Teosofi
ATTACH;FMTTYPE=image/jpeg:https://bkimpedersen.dk/wp-content/uploads/2019/11/Engle-fra-Assisi.jpg
END:VEVENT
END:VCALENDAR