BEGIN:VCALENDAR
VERSION:2.0
PRODID:-//bkimpedersen.dk - ECPv6.15.20//NONSGML v1.0//EN
CALSCALE:GREGORIAN
METHOD:PUBLISH
X-WR-CALNAME:bkimpedersen.dk
X-ORIGINAL-URL:https://bkimpedersen.dk
X-WR-CALDESC:Begivenheder for bkimpedersen.dk
REFRESH-INTERVAL;VALUE=DURATION:PT1H
X-Robots-Tag:noindex
X-PUBLISHED-TTL:PT1H
BEGIN:VTIMEZONE
TZID:Europe/Paris
BEGIN:DAYLIGHT
TZOFFSETFROM:+0100
TZOFFSETTO:+0200
TZNAME:CEST
DTSTART:20220327T010000
END:DAYLIGHT
BEGIN:STANDARD
TZOFFSETFROM:+0200
TZOFFSETTO:+0100
TZNAME:CET
DTSTART:20221030T010000
END:STANDARD
BEGIN:DAYLIGHT
TZOFFSETFROM:+0100
TZOFFSETTO:+0200
TZNAME:CEST
DTSTART:20230326T010000
END:DAYLIGHT
BEGIN:STANDARD
TZOFFSETFROM:+0200
TZOFFSETTO:+0100
TZNAME:CET
DTSTART:20231029T010000
END:STANDARD
BEGIN:DAYLIGHT
TZOFFSETFROM:+0100
TZOFFSETTO:+0200
TZNAME:CEST
DTSTART:20240331T010000
END:DAYLIGHT
BEGIN:STANDARD
TZOFFSETFROM:+0200
TZOFFSETTO:+0100
TZNAME:CET
DTSTART:20241027T010000
END:STANDARD
END:VTIMEZONE
BEGIN:VEVENT
DTSTART;TZID=Europe/Paris:20230215T190000
DTEND;TZID=Europe/Paris:20230301T220000
DTSTAMP:20260419T165259
CREATED:20230129T234111Z
LAST-MODIFIED:20230129T234111Z
UID:10000689-1676487600-1677708000@bkimpedersen.dk
SUMMARY:Kabbala - Grundskole Modul 1 - feb 2023
DESCRIPTION:Kabbala – Grundskole\n \nWEBINAR\, online undervisning via Google Meet \nModul 1 – feb 2023\n8. februar\, 15. februar og 22. februar\n(Grundskole – 4 moduler) \nAt værdsætte livets øjeblikke\n \nKabbalah handler om at modtage et budskab og give det videre. Når noget eller nogen åbenbarer sig for os\, har det ofte den eftervirkning at vække inspiration\, forundring og glæde. Måske frigiver budskabet ligefrem en vilje til at være smuk og modig.  \nVi tager på en rejse hen over de forskellige traditioner i Kabbalah og slutter vores rejse i den hermetisk Kabbalah\, hvor vi forbliver under forløbet.  \nVi vil i løbet af fire moduler (hver over 3 onsdage fra kl.19-22) undersøge en række af de mange mysterier\, som har været med til at inspirere verden i flere århundreder. \nDer vil blive brugt visualiseringsøvelser til at skabe et indblik i dagens tema\, således vi kan få glæde af vort indre og ydre liv i Kabbalah’en mystiske virke. \nI samarbejde med forlaget\, læs videre her  https://www.lemuelbooks.dk/vare/kabbala—grundkursus-modul-1 \nUndervisningen er til private \n Hvert modul er 9 timers undervisning (inklusiv pauser) fordelt på 3 onsdage fra kl.19-22.  \nMODUL 1 – DELTAGERPRIS:  1000 DKK \n(8. februar\, 15. februar og 22. februar 2023) \nMODUL 2 – DELTAGERPRIS:  1000 DKK \n(15. marts\, 22. marts og 29. marts 2023) \nMODUL 3 – DELTAGERPRIS:  1000 DKK \n(12. april\, 19. april og 26. april 2023) \nMODUL 4 – DELTAGERPRIS:  1000 DKK \n(17. maj\, 24. maj og 31. maj 2023)
URL:https://bkimpedersen.dk/event/kabbala-grundskole-modul-1-feb-2023/2023-02-15/
ATTACH;FMTTYPE=image/webp:https://bkimpedersen.dk/wp-content/uploads/2023/01/kabba_grund_1.webp
END:VEVENT
BEGIN:VEVENT
DTSTART;TZID=Europe/Paris:20230222T190000
DTEND;TZID=Europe/Paris:20230308T220000
DTSTAMP:20260419T165259
CREATED:20230129T234111Z
LAST-MODIFIED:20230129T234111Z
UID:10000690-1677092400-1678312800@bkimpedersen.dk
SUMMARY:Kabbala - Grundskole Modul 1 - feb 2023
DESCRIPTION:Kabbala – Grundskole\n \nWEBINAR\, online undervisning via Google Meet \nModul 1 – feb 2023\n8. februar\, 15. februar og 22. februar\n(Grundskole – 4 moduler) \nAt værdsætte livets øjeblikke\n \nKabbalah handler om at modtage et budskab og give det videre. Når noget eller nogen åbenbarer sig for os\, har det ofte den eftervirkning at vække inspiration\, forundring og glæde. Måske frigiver budskabet ligefrem en vilje til at være smuk og modig.  \nVi tager på en rejse hen over de forskellige traditioner i Kabbalah og slutter vores rejse i den hermetisk Kabbalah\, hvor vi forbliver under forløbet.  \nVi vil i løbet af fire moduler (hver over 3 onsdage fra kl.19-22) undersøge en række af de mange mysterier\, som har været med til at inspirere verden i flere århundreder. \nDer vil blive brugt visualiseringsøvelser til at skabe et indblik i dagens tema\, således vi kan få glæde af vort indre og ydre liv i Kabbalah’en mystiske virke. \nI samarbejde med forlaget\, læs videre her  https://www.lemuelbooks.dk/vare/kabbala—grundkursus-modul-1 \nUndervisningen er til private \n Hvert modul er 9 timers undervisning (inklusiv pauser) fordelt på 3 onsdage fra kl.19-22.  \nMODUL 1 – DELTAGERPRIS:  1000 DKK \n(8. februar\, 15. februar og 22. februar 2023) \nMODUL 2 – DELTAGERPRIS:  1000 DKK \n(15. marts\, 22. marts og 29. marts 2023) \nMODUL 3 – DELTAGERPRIS:  1000 DKK \n(12. april\, 19. april og 26. april 2023) \nMODUL 4 – DELTAGERPRIS:  1000 DKK \n(17. maj\, 24. maj og 31. maj 2023)
URL:https://bkimpedersen.dk/event/kabbala-grundskole-modul-1-feb-2023/2023-02-22/
ATTACH;FMTTYPE=image/webp:https://bkimpedersen.dk/wp-content/uploads/2023/01/kabba_grund_1.webp
END:VEVENT
BEGIN:VEVENT
DTSTART;TZID=Europe/Paris:20230304T100000
DTEND;TZID=Europe/Paris:20230305T170000
DTSTAMP:20260419T165259
CREATED:20220221T085748Z
LAST-MODIFIED:20220829T100510Z
UID:10000645-1677924000-1678035600@bkimpedersen.dk
SUMMARY:Nyborg Verdenssjælens opvågning. 3. weekend: Når ånden ønsker at involvere sig
DESCRIPTION:Verdenssjælens opvågning (eller Verdenssjælens tilsynekomst)  \n Inspiration\, nysgerrighed og venlige synteser. \n \nEn kursusserie på 6 weekender over 2 år\, 3 weekender i 2022 og 3 i 2023 se datoerne på de enkelte hold.  \n  \nHar du lyst til at udfordre dig selv og give din sjæl mere plads i dit liv og lade sjælen skabe et bevidsthedslaboratorium i dit liv? Er du klar til at gå længere ind i kærlighedens mysterium\, føre den videre til syntese og lade din kærlighed berøre visdommen? Disse temaer er naturlige for Lucille Cedercrans i hendes bog\, Indtryk fra ashrammen. \nForløbet vil ikke køre som en studiekreds. Inspirationen hentes fra bogen og vil blive omsat til undervisningslektioner. Forløbet er opdelt\, således det rækker over to år med tre weekender hvert år. Der vil blive refereret til en bred vifte af åndsvidenskabelige kilder\, men hovedkilden vil være teosofien. \nDer vil være en god tid mellem weekenderne\, en tid tiltænkt til at lade tingene synke ned i din bevidsthed. Måske vil du opdage nye muligheder i mellemtiden\, måske opfange nye interesser og se en forskønnelse af dine omgivelser. Nye inspirationskilder træder måske frem i dine drømme\, og du oplever måske også mod til at tænke på nye og spændende måder. \nDet er ikke et krav\, at du læser kapitlerne hver gang. Du er naturligvis velkommen til at deltage i kurset\, som det passer dig\, men ønsker du et rigt udbytte af kurset\, anbefaler jeg\, at du læser bogen igennem og derefter fordyber dig i kapitlerne\, som vi gennemgår til hver weekend. På den måde er du bedre i stand til at stille de gode spørgsmål til de enkelte weekender. \nPris pr. weekend \nAlmen DKK 900\, – Pensionist DKK 850\,- \nYoga skole Nyborgs hjemmeside https://www.yogaundervisning.dk/alle-hold/?category=435&course=5311 \nTilmeld \n09-10. april 2022 Første weekend: Sjælens laboratorium \nHvad er sjælens område? Ved hjælp af meditationsøvelser og kontemplation vil vi arbejde med sjælens legemer. Hvordan fungerer tanker\, følelser\, æterlegemet og sindet? Hvordan virker modstand på det mentale plan\, og hvordan kan vi indlære sunde vaner\, så vi nærer et mentalt sundt helbred? \n  \n18-19. juni 2022 Anden weekend: Lys\, kærlighed og syntese \nTemaet for denne weekend er kærligheden som den magnetiske synteseskaber af gruppementalitet. Hvordan virker overskygningen\, som kan udløse kærlighedens blide vind? Vi vil arbejde med indre grupper\, hvordan de skabes og genkendes. Vi vil undersøge mysterierne om de forskellige åndsvidenskabelige haller\, som skal til rådighed for os. Hvordan forholder sjælen sig til hverdagsproblemer? \n  \n05-06. November 2022 Tredje weekend: Når ånden ønsker at involvere sig \nVi er nu kommet så langt ind i sjælens rige\, at vi begynder at opdage\, at der eksisterer grupper og sammenhold på sjælsplanet. Vi vil undersøge disse grupper og finde ud af hvem de er og om vi kan genkende deres indflydelse fra historiens tidligere begivenheder\, f.eks. inden for kunst og trosretninger. Hvordan virker ånden i vores liv? Hvordan træner den sjælen op til livets jordiske skole? \n  \n04-05. Marts 2023 Fjerde weekend: Den nye udviklingsvej \nMange traditioner fortæller om indvielse af forskellige slags. Som enkelt individ går vi gennem indvielser hele vort liv\, men det gør vi også som gruppelegeme. Vi undersøger hvad det vil sige at gennemgå en indvielse. Hvordan udvides bevidstheden? Hvordan udvikler vi os som fysisk menneske her på jorden og som søgende sjæl\, der længes efter himmelske meninger? Hvor mange bevidsthedstrin findes der? Er der overhovedet nogen? \n  \n17-18. juni 2023 Femte weekend: Det indre livs tilsynekomst \nDenne weekend tager vi fat på det store tema: Gruppecentre. Hvad er et gruppecenter? Er det f.eks. det\, som pludselig påvirker mennesker til store kunstneriske retninger eller politiske ideologier? Hvilken tilstand befinder vores nuværende gruppecenter sig i? Hvorfra strømmer inspirationen\, og hvordan påvirker den vores hverdag og vores fremtidige liv? \n  \n23-24. september 2023 Sjette weekend: Fordybelse i den nye civilisation \nVi undersøger mysteriet om vores energifelt\, som tiltrækker og frastøder omkring os. Hvad er æterisk aura indflydelse? Kan arkitektur besidde en magnetisk energifelt? Kan begivenheder? Vi kigger på broen mellem det indre og ydre liv\, og broen\, som vi bygger mellem hinanden. Vil en ny stråle træde frem i fremtiden\, ment til at berige os med en dybere forståelse af skønhed\, visdom og ceremoniel samarbejde? Kan vi sammen skabe en syntesekvalitet? \nVi slutter af med at evaluere vores to år sammen. Hvad synes du\, du kan tage med videre til din kommende livsperiode? \nUndervisningssted \nDof Yogaskolen \nVestervoldgade 4\, 1. i gavlen \n5800 Nyborg
URL:https://bkimpedersen.dk/event/nyborg-verdenssjaelens-opvaagning-foerste-weekend-sjaelens-laboratorium/2023-03-04/
LOCATION:Yogaskolen Nyborg\, Vestervoldgade 4\, Nyborg\, 5800
CATEGORIES:Teosofi
ATTACH;FMTTYPE=image/jpeg:https://bkimpedersen.dk/wp-content/uploads/2009/11/logo_teosofi.jpg
END:VEVENT
BEGIN:VEVENT
DTSTART;TZID=Europe/Paris:20230307T190000
DTEND;TZID=Europe/Paris:20230307T213000
DTSTAMP:20260419T165259
CREATED:20230129T225439Z
LAST-MODIFIED:20230129T225439Z
UID:10000678-1678215600-1678224600@bkimpedersen.dk
SUMMARY:Den fysiske krops oprindelse online foredrag Teosofisk fordybelses
DESCRIPTION:Den fysiske krops oprindelse\n \n2 – 5\nonline foredrag fra teosofisk forening København\nGoogle meet \nSet fra et højere filosofisk perspektiv\, hvad er kroppens formål? Vi vil forsøge at forstå dens relation til den fjerne fortid\, hvor den opstod\, og hvilken udvikling kroppen har gennemgået for at ende i den form\, som vi kender i dag. Hvilke sanser og astrologiske huse arbejder gennem vores fysiske krop? \nTeosofien tager ikke tit personligheden op som det store emne.\, Hvilke legemer skal personligheden bruge for at udvikle discipelskab på de tre planer? Det vil vi over en række foredrag kaste lys over. \nette foredrag er led i 5 foredrag om personligheden\, set fra forskellige vinkler. \nForedragene vil gøre brug af en bred vifte af åndsvidenskabelige kilder til at afdække sit emne. Selv om foredragene omkredser det samme emne\, personligheden\, set fra forskellige vinkler\, kan de sagtens høres hver for sig. \nPris pr. online foredrag: 90/120 kr for medlemmer/gæster.\nTilmelding og betaling: Se billetter nederst under begivenheden. https://teosofiskforening.dk/begivenhed/online-foredrag-fordybelse-i-lyset-af-teosofien-2-ved-kim-pedersen/ \nOversigt over de næste titler i foredragsrækken med datoer:\nTirsdag den 4. april\n3 – Æterlegemets bevægelser \nTirsdag den 2. maj\n4 – Stjernelegemet \nTirsdag den 6. juni\n5 – Det mentale tempel \n 
URL:https://bkimpedersen.dk/event/den-fysiske-krops-oprindelse-online-foredrag-teosofisk-fordybelses/
ATTACH;FMTTYPE=image/png:https://bkimpedersen.dk/wp-content/uploads/2019/07/Logoteosofi.png
END:VEVENT
BEGIN:VEVENT
DTSTART;TZID=Europe/Paris:20230324T100000
DTEND;TZID=Europe/Paris:20230324T133000
DTSTAMP:20260419T165259
CREATED:20230215T165003Z
LAST-MODIFIED:20231207T112231Z
UID:10000692-1679652000-1679664600@bkimpedersen.dk
SUMMARY:Enok i Himmerland Ny gruppe i Årestrup
DESCRIPTION:Enoks Hemmeligheder – Universets nøgler online\n \nstudiekreds gruppe\nEr du interesse i gruppes virke er du velkommen til at sende mig mail \nVi lader os inspirere af Hurtaks bog om Enoks universelle nøgler og hemmeligheder. Vi vil reflektere over stjernebillederne\, f.eks. Nordstjernen\, Orion\, Store Bjørn\, Sirius\, Plejaderne og de tolv tegn i dyrekredsen. Vi kommer også rundt om de mange hierarkier og deres ledere. \nEnoks hemmeligheder kan tage os med på en tusindårs lang rejse i den græske mytologi og den hebraiske Kabbalah. Den kan fortælle os om visdommen bag ærkeenglenes virke\, om relationen til de mere moderne begreber som matematik og biokemi\, samt intuitionslegemet. Vi vil i  studiekredsen anvende en bred vifte af åndsvidenskabelige kilder\, så har du lyst til at udfordre din bevidsthed med de hellige skrifters mere ukendte sider\, er denne studiekreds måske noget for dig. \nPraktiske oplysninger: \nSkriv til mig\, hvis du er interesseret i gruppens virke kim@bkimpedersen.dk \nVi møders fysiske i Årestrup post nr. 9520
URL:https://bkimpedersen.dk/event/enok-i-himmerland-ny-gruppe/2023-03-24/
CATEGORIES:Enok's Nøgler
ATTACH;FMTTYPE=image/jpeg:https://bkimpedersen.dk/wp-content/uploads/2020/01/enok_til-salg-1.jpg
END:VEVENT
END:VCALENDAR