BEGIN:VCALENDAR
VERSION:2.0
PRODID:-//bkimpedersen.dk - ECPv6.15.20//NONSGML v1.0//EN
CALSCALE:GREGORIAN
METHOD:PUBLISH
X-ORIGINAL-URL:https://bkimpedersen.dk
X-WR-CALDESC:Begivenheder for bkimpedersen.dk
REFRESH-INTERVAL;VALUE=DURATION:PT1H
X-Robots-Tag:noindex
X-PUBLISHED-TTL:PT1H
BEGIN:VTIMEZONE
TZID:Europe/Copenhagen
BEGIN:DAYLIGHT
TZOFFSETFROM:+0100
TZOFFSETTO:+0200
TZNAME:CEST
DTSTART:20240331T010000
END:DAYLIGHT
BEGIN:STANDARD
TZOFFSETFROM:+0200
TZOFFSETTO:+0100
TZNAME:CET
DTSTART:20241027T010000
END:STANDARD
BEGIN:DAYLIGHT
TZOFFSETFROM:+0100
TZOFFSETTO:+0200
TZNAME:CEST
DTSTART:20250330T010000
END:DAYLIGHT
BEGIN:STANDARD
TZOFFSETFROM:+0200
TZOFFSETTO:+0100
TZNAME:CET
DTSTART:20251026T010000
END:STANDARD
BEGIN:DAYLIGHT
TZOFFSETFROM:+0100
TZOFFSETTO:+0200
TZNAME:CEST
DTSTART:20260329T010000
END:DAYLIGHT
BEGIN:STANDARD
TZOFFSETFROM:+0200
TZOFFSETTO:+0100
TZNAME:CET
DTSTART:20261025T010000
END:STANDARD
END:VTIMEZONE
BEGIN:VEVENT
DTSTART;TZID=Europe/Copenhagen:20251203T190000
DTEND;TZID=Europe/Copenhagen:20251203T220000
DTSTAMP:20260422T195848
CREATED:20250114T113257Z
LAST-MODIFIED:20250425T062729Z
UID:10000837-1764788400-1764799200@bkimpedersen.dk
SUMMARY:Starter forfra ENOKS HEMMELIGHEDER 2025-online studiekreds Med Kirsten Puggaard og B. Kim Pedersen
DESCRIPTION:ENOKS HEMMELIGHEDER\n \n  \n2025-online studiekreds\n(1. onsdag i vært månen sept – okt – nov – dec)\nVil du være med i 1 ÅRS ONLINE STUDIEKREDS\, der går i dybden med det esoteriske værk ENOKS HEMMELIGHEDER? \nB. Kim Pedersen og Kirsten Puggaard vil oplæse og gennemgå værket i dialog\, og alle deltagere kan komme med input. Sammen kan vi udforske forbindelserne mellem menneskelig bevidsthed\, kosmisk visdom og guddommelig plan\, sådan som det er formidlet i denne spirituelle og videnskabelige bog skrevet af J.J. Hurtak. \nBogen præsenterer sig som en slags ‘kodebog’ for opvågning\, og den indeholder 64 nøgler eller åbenbaringer\, der forbinder læseren med universets højere dimensioner og energifelter. \nGennem en blanding af mystik\, kvantefysik\, kosmologi og gammel visdom beskriver bogen\, hvordan menneskeheden kan transcendere sine nuværende begrænsninger og deltage i en større evolutionær rejse. Hurtak hævder at have modtaget disse nøgler i en vision\, hvor han blev undervist af højere åndelige væsener og blev introduceret til konceptet om “det levende univers” – en bevidst\, sammenhængende enhed\, som mennesket er en del af. \nBogen indeholder en dybdegående udforskning af emner som: \n\nÅndelige og videnskabelige teknologier\, der kan åbne for nye bevidsthedsniveauer.\nForklaring på UFO-fænomenet og åndsvidenskabens Merkabah-begreb.\nForbindelsen mellem menneskets DNA og kosmisk intelligens.\nEnglehierarkier og deres rolle i at vejlede menneskeheden.\nBetydningen af kærlighed og lys som universets grundlæggende energier.\n\nENOKS HEMMELIGHEDER er ikke blot en bog\, men en vejledning til transformation – en guide for dem\, der søger at forstå deres åndelige potentiale og universets mystiske orden. \nDato: 3. september\, 1. oktober\, 5. november og 3. december. \nTid: Alle aftener kl.19-22 \nTilmelding på denne hjemmeside: www.lemuelbooks.dk/vare/enoks-hemmeligheder-2025-studiekreds \nOBS. Norske deltagere kan betale med norsk Vipps eller overføre direkte til Kims norske konto:
URL:https://bkimpedersen.dk/event/starter-forfra-enoks-hemmeligheder-2025-online-studiekreds-med-kirsten-puggaard-og-b-kim-pedersen/2025-12-03/
LOCATION:LEMUEL BOOKS ApS Aarhus C.
CATEGORIES:Enok's Nøgler
ATTACH;FMTTYPE=image/jpeg:https://bkimpedersen.dk/wp-content/uploads/2020/01/enok_til-salg-1.jpg
END:VEVENT
BEGIN:VEVENT
DTSTART;TZID=Europe/Copenhagen:20251206T100000
DTEND;TZID=Europe/Copenhagen:20251206T170000
DTSTAMP:20260422T195848
CREATED:20241111T125327Z
LAST-MODIFIED:20241111T131400Z
UID:10000793-1765015200-1765040400@bkimpedersen.dk
SUMMARY:Kosmisk Bevidsthed - Åndsvidenskabens Akademi Aarhus
DESCRIPTION:Kosmisk Bevidsthed – Åndsvidenskabens Akademi\n\n\n\n  \nEN 2-ÅRIG UDDANNELSE I KOSMISK BEVIDSTHED – START FEB. 2025  \nMålet med dette 2-årige program i KOSMISK BEVIDSTHED er at give dig redskaberne til at udforske bevidsthedens grænser og tilegne dig en dybere forståelse af dig selv\, verden omkring dig og universet. Med denne indsigt vil du kunne handle med større etisk forståelse og visdom i dit liv\, klar til at integrere den åndvidenskabelige viden i praktiske og meningsfulde handlinger.  \nVores program inviterer dig til at dykke dybt ned i menneskets potentiale for bevidst udvikling gennem en grundig indføring i fire klassiske esoteriske discipliner: TEOSOFI\, KABBALA\, ASTROLOGI og TAROT. Disse lærdomme danner fundamentet for en holistisk forståelse af de energier og bevidsthedslag\, der former vores eksistens og åbner døren til et liv levet med større visdom og etik. \nLigesom man skal øve og mestre klaverets skalaer og lære musikalske harmoniseringer osv. for selv at kunne komponere\, er vi overbevist om\, at en solid forståelse af fire klassiske esoteriske discipliner – der er blevet formidlet gennem mysterietraditioner siden oldtiden – er grundlaget for at kunne udfolde bevidsthedens fulde potentiale. Derfor vil du blive skolet i fagene teosofi\, kabbala\, astrologi og tarot. Symbolsproget i disse discipliner er broen mellem bevidst og ubevidst adgang til bevidsthedsfeltet (sjælsriget og personlighedsverdenen). \n \nTEOSOFI – Kortlæggelsen af Bevidsthedens Lag \n  \n✅ Teosofien giver os nøglerne til at forstå bevidsthedens mange lag og niveauer. Gennem studiet af teosofiske principper får du indsigt i menneskets rige her på jorden\, sjælens rige\, de mange dimensioner og deres udvikling og potentiale. \n✅ Teosofi beskriver\, hvordan bevidstheden rækker langt ud over det fysiske plan og åbner for en dybere forståelse af vores indre\, metafysiske verden. Med denne viden kan du begynde at kortlægge og udvikle dine egne bevidsthedsfakulteter\, så du kan handle med større bevidsthed og klarhed i dit liv. \n✅ Teosofien er nøglen til at erkende vores indre kraft og potentiale for at transcendere den materielle verden. \nKABBALA – Livstræets Mystik \n \n✅ Kabbalaen tilbyder en dybtgående forståelse af den esoteriske matrix\, der binder himmel og jord sammen. \n✅ Livstræet\, som er kernen i kabbalaen\, repræsenterer en spirituel rejse fra det materielle til det guddommelige\, hvor hvert niveau på træet (sefirot) svarer til forskellige energiudstålings-aspekter af bevidstheden. \n✅ Gennem kabbalaen lærer du at forstå\, hvordan den guddommelige bevidsthed strømmer igennem os og alt i universet\, og hvordan vi kan forbinde os til denne strømning. \n✅ Dette studium giver en dyb indsigt i den universelle sammenhæng mellem vores individuelle bevidsthed og de højere spirituelle niveauer\, og det viser os vejen til at transcendere den fysiske verden og opnå en højere form for erkendelse. \nASTROLOGI – Forståelse af Kosmiske Energier \n \n✅ Astrologien fungerer som et spejl for de energier\, der omgiver os og påvirker vores bevidsthed. Ved at få indsigt i astrologi lærer du\, hvordan de himmelske kroppe (Sol og planeter) og deres bevægelser påvirker vores indre liv og bevidsthedstilstande. \n✅ Astrologien kan hjælpe os med at forstå vores sjæls rejse\, livslektioner og skæbnemæssige mønstre. Gennem denne forståelse kan du navigere mere bevidst i livet\, da du vil være opmærksom på de kosmiske impulser\, der former dine tanker\, følelser og handlinger. \n✅ Dette fag giver dig værktøjer til at synkronisere dine bevidste handlinger med universets naturlige rytmer. \n✅ Det er den esoteriske astrologi\, der fokuseres på i dette forløb. \nTAROT – Indvielsesvejen \n \n✅ Tarotkortene tilbyder en indvielsesvej\, som symbolsk og psykologisk fører os dybere ind i forståelsen af vores egen bevidsthed og forbindelse til universet. \n✅ Tarot er en visuel vejledning\, en ‘billed’-vej til at åbne dit følelseslegeme og intuitionens mange lag\, som hjælper med at afdække skjulte aspekter både på det bevidste og det ubevidste plan. \n✅ Det er en port til moderenergien i kabbala-livstræets Binah (Gralen). \n✅ Gennem tarot kan du åbne dørene til spirituel erkendelse og psykologisk transformation\, hvilket gør det muligt for dig at forstå og udvikle dine bevidsthedspotentialer i en indre kontekst. \n✅ Vi arbejder med fire forskellige sæt kort og har først fokus på Den Store Arkanas 22 kort og deres relation til de 7 stråler\, som vi kender fra teosofien samt deres forbindelse til kosmos. Derefter ser vi på Den Lille Arkana og disse korts relation til 48 stjernebilleder. \nMÅLET med dette 2-årige forløb \n \n✅ Vores mål er at give dig fundamentet for en holistisk og åndsvidenskabelig forståelse af de energier og bevidsthedslag\, der former vores eksistens. \n✅ At opdage\, at det bevidsthedsfelt\, menneskesindet ’streamer’ fra\, kan udvide dit syn på\, hvem du er. \n✅ At du kan mestre at  ’se’ indholdet i et tarotoplæg og bruge din viden\, indsigt\, intuition\, fjern-visning til at give en grundig tolkning. For tarotkortene er for den indviede et sublimt værktøj til at tappe ind i bevidsthedsfeltets beskeder til dig og dem\, du hjælper til indsigt gennem et tarotoplæg. \nUNDER FORLØBET VIL DER OGSÅ VÆRE … \n\nMeditations-øvelser\nVisualiserings-øvelser\nRitualer (de 4 elementer)\nIntro til og øvelser i Remote Viewing (fjern-visning)\n\n  \nGæsteunderviser – Kirsten Puggaard \nKirsten vil undervise i teosofiens udlægning af bevidsthedsfakultater og intro/ øvelser i fjern-visning (Remote Viewing). \n\n\nPRIS – Hvad koster det dig?\n\n\n\n✅ De 12 moduler/weekender er fordelt over 2 år med 6 weekender om året. \n✅ Det 2-årige skoleforløb koster 1111 kr. om måneden i 24 måneder\, som betales senest den 1. i hver måned. Første gang senest 1. februar 2025. \n✅ Tilmelding til info@lemuelbooks.dk. Forløbet er bindende for et år ad gangen. \n✅ BETALING: \n\nTilmelding ved betaling af første gang ved køb HER>\nBankoverførsel: Reg.nr.:/kontonr.: 7739-1523485   (VestjyskBANK)  – IBAN: DK7577390001523485 / SWIFT/BIC: VEHODK22\nMobilepay-konto: 63842\n\n\n\n\n\nSTED – Hvor skal du møde op?\n\n\n\n✅ Undervisningen foregår i SALON 28\, Mejlgade 28\, 2. sal – Aarhus C. Det er i centrum af det gamle Århus – i Latinerkvarteret\, omringet af  lækre cafeer. Nærmeste P-hus er Navitas (ca. 200 meter fra vores adresse). \n \n\n\n\n\nMØDETID – Datoer for de 12 weekender\n\n\n\n✅ Undervisningen er lørdag/søndag fra kl.10-17 alle weekender. Der vil være korte pauser undervejs og ca. 45 min frokostpause. \n\nWeekend: 15.-16. februar 2025\nWeekend: 12-13. april 2025\nWeekend: 24.-25. maj 2025\nWeekend: 16.-17. august 2025\nWeekend: 11.-12. oktober 2025\nWeekend: 6.-7. december 2025\nWeekend: 14.-15. februar 2026\nWeekend: 11.-12. april 2026\nWeekend: 20.-21. juni 2026\nWeekend: 15.-16. august 2026\nWeekend: 10.-11. oktober 2026\nWeekend: 5.-6. december 2026\n\n\n\n\n\nSTUDIEMATERIALE – Hvilke studiebøger skal bruges?\n\n\n\n✅ Du får gratis 2 bøger til undervisningen: \n\n“Det Gyldne Daggry” af R.G. Torrens   * (KLIK på titlen for at se bogen)\n“Kend dig Selv – via Den store Arkana” af Bjarne Wagner Augustenborg  * (KLIK på titlen for at se bogen)\n“Udfold din PSI-kraft” af Uri Geller (udkommer marts 2025)\n\nDerudover anbefales “ENOKS HEMMELIGHEDER” af Hurtak. \n\n\n\n\nADGANGSKRAV – Skal jeg forberede mig inden start?\n\n\n\n✅ Der er ingen adgangskrav. Og du skal ikke forberede noget til første gang. \n✅ Mellem de enkelte moduler/weekender forventer vi dog\, at lærebøgerne studeres efter en udleveret læseplan. \n\n\n\n\nANTAL ELEVER – Hvor mange er vi?\n\n\n\n✅ Der optages max. 22 elever på holdet. \n\n\n\n\nHVORFOR ER DET NOGET FOR MIG?\n\n\n\nInderst inde VED du\, at du kan udfolde mere med din bevidsthed\, end du gør lige nu. Men hvordan træner du de bevidsthedsfakulteter\, så din intuition\, dit øje for synkroniciteter og dine bevidsthedslags psykiske evner bliver stærkere? \n👉 Det gør du ved at få indsigt i den viden og visdom\, som de klassiske esoteriske studier på dette 2-årige skoleforlød tilbyder. Når du har været igennem forløbet\, så er din evne til at streame fra bevidsthedsfeltet større\, din evne til at tolke symboler er forfinet\, og du vil mestre at tolke ethvert tarotoplæg. \nLink til Lemuel hjemmeside \n\n\nPRIS – Hvad koster det dig?\n\n\n\n✅ De 12 moduler/weekender er fordelt over 2 år med 6 weekender om året. \n✅ Det 2-årige skoleforløb koster 1111 kr. om måneden i 24 måneder\, som betales senest den 1. i hver måned. Første gang senest 1. februar 2025. \n✅ Tilmelding til info@lemuelbooks.dk. Forløbet er bindende for et år ad gangen. \n✅ BETALING: \n\nTilmelding ved betaling af første gang ved køb HER>\nBankoverførsel: Reg.nr.:/kontonr.: 7739-1523485   (VestjyskBANK)  – IBAN: DK7577390001523485 / SWIFT/BIC: VEHODK22\nMobilepay-konto: 63842\n\n\n\n\n\nSTED – Hvor skal du møde op?\n\n\n\n✅ Undervisningen foregår i SALON 28\, Mejlgade 28\, 2. sal – Aarhus C. Det er i centrum af det gamle Århus – i Latinerkvarteret\, omringet af  lækre cafeer. Nærmeste P-hus er Navitas (ca. 200 meter fra vores adresse). \n \n\n\n\n\nMØDETID – Datoer for de 12 weekender\n\n\n\n✅ Undervisningen er lørdag/søndag fra kl.10-17 alle weekender. Der vil være korte pauser undervejs og ca. 45 min frokostpause. \n\nWeekend: 15.-16. februar 2025\nWeekend: 12-13. april 2025\nWeekend: 24.-25. maj 2025\nWeekend: 16.-17. august 2025\nWeekend: 11.-12. oktober 2025\nWeekend: 6.-7. december 2025\nWeekend: 14.-15. februar 2026\nWeekend: 11.-12. april 2026\nWeekend: 20.-21. juni 2026\nWeekend: 15.-16. august 2026\nWeekend: 10.-11. oktober 2026\nWeekend: 5.-6. december 2026\n\n\n\n\n\nSTUDIEMATERIALE – Hvilke studiebøger skal bruges?\n\n\n\n✅ Du får gratis 2 bøger til undervisningen: \n\n“Det Gyldne Daggry” af R.G. Torrens   * (KLIK på titlen for at se bogen)\n“Kend dig Selv – via Den store Arkana” af Bjarne Wagner Augustenborg  * (KLIK på titlen for at se bogen)\n“Udfold din PSI-kraft” af Uri Geller (udkommer marts 2025)\n\nDerudover anbefales “ENOKS HEMMELIGHEDER” af Hurtak. \n\n\n\n\nADGANGSKRAV – Skal jeg forberede mig inden start?\n\n\n\n✅ Der er ingen adgangskrav. Og du skal ikke forberede noget til første gang. \n✅ Mellem de enkelte moduler/weekender forventer vi dog\, at lærebøgerne studeres efter en udleveret læseplan. \n\n\n\n\nANTAL ELEVER – Hvor mange er vi?\n\n\n\n✅ Der optages max. 22 elever på holdet. \n\n\n\n\nHVORFOR ER DET NOGET FOR MIG?\n\n\n\nInderst inde VED du\, at du kan udfolde mere med din bevidsthed\, end du gør lige nu. Men hvordan træner du de bevidsthedsfakulteter\, så din intuition\, dit øje for synkroniciteter og dine bevidsthedslags psykiske evner bliver stærkere? \n👉 Det gør du ved at få indsigt i den viden og visdom\, som de klassiske esoteriske studier på dette 2-årige skoleforlød tilbyder. Når du har været igennem forløbet\, så er din evne til at streame fra bevidsthedsfeltet større\, din evne til at tolke symboler er forfinet\, og du vil mestre at tolke ethvert tarotoplæg.
URL:https://bkimpedersen.dk/event/kosmisk-bevidsthed-aandsvidenskabens-akademi-aarhus/2025-12-06/
LOCATION:LEMUEL BOOKS ApS Aarhus C.
CATEGORIES:Astrologi,Kabbalah,Tarot,Teosofisk fordybelses kursus
ATTACH;FMTTYPE=image/webp:https://bkimpedersen.dk/wp-content/uploads/2023/12/magiker-billede.jpg.webp
END:VEVENT
BEGIN:VEVENT
DTSTART;TZID=Europe/Copenhagen:20251211T183000
DTEND;TZID=Europe/Copenhagen:20251211T213000
DTSTAMP:20260422T195848
CREATED:20250706T105255Z
LAST-MODIFIED:20250706T105255Z
UID:10000882-1765477800-1765488600@bkimpedersen.dk
SUMMARY:Enoks Hemmeligheder – Universets Nøgler. online gruppe Merkabah 2
DESCRIPTION:Enoks Hemmeligheder – Universets Nøgler \nonline gruppe \n \nPå Google meet \nGruppen arbejde nu i anden del af bogen 2023 Efteråret \nEnoks hemmeligheder kan tage os med på en tusindårs lang rejse i den græske mytologi og den hebraiske Kabbalah. De kan fortælle os om visdommen bag ærkeenglenes virke\, om relationen til de mere moderne begreber som matematik og biokemi\, og om intuitionshuse omgivet af floder fulde af levende ild. Vi vil i studiekredsen anvende en bred vifte af åndsvidenskabelige kilder\, så har du lyst til at udfordre din bevidsthed med de hellige skrifters mere ukendte sider\, er denne kreds måske noget for dig. \nGruppen har kørt i et år\, så vil med i gruppen er du velkommen til at skriver til mig hvor vi er. \nPris pr. aften er 150.00 Dkk \nBetaling kan ske på MobilePay 96836 eller konto 8401 1153388 (Danmark). Husk at skrive Enok 2 som kommentar. \nTilmelding sker via e-mail: kim@bkimpedersen.dk. Link sendes\, når tilmelding er betalt. \nDatoer for efteråret 2025 \n14 august 2025 kl. 18:30 – 21:30 \n11 september \n09 oktober \n13 november \n11 december
URL:https://bkimpedersen.dk/event/enoks-hemmeligheder-universets-noegler-online-gruppe-merkabah-2/2025-12-11/
CATEGORIES:Enok's Nøgler
ATTACH;FMTTYPE=image/jpeg:https://bkimpedersen.dk/wp-content/uploads/2020/01/enok_til-salg-1.jpg
END:VEVENT
BEGIN:VEVENT
DTSTART;TZID=Europe/Copenhagen:20251212T100000
DTEND;TZID=Europe/Copenhagen:20251212T133000
DTSTAMP:20260422T195848
CREATED:20250706T090954Z
LAST-MODIFIED:20250706T091041Z
UID:10000872-1765533600-1765546200@bkimpedersen.dk
SUMMARY:Enoks nøgler fortsat i Himmeland
DESCRIPTION:Enoks nøgler fortsat i Himmeland\n  \n \nGruppen er i andel af bogen\nStudiekredsen fortsætter sit arbejde med “Enoks Nøgler” hen over foråret. Vi dykker ned i Hurtaks fascinerende bog om Enoks hemmeligheder og lader os inspirere af dens visdom. \nSammen vil vi udforske stjernebilledernes betydning\, herunder Nordstjernen\, Orion\, Store Bjørn\, Plejaderne og de tolv tegn i dyrekredsen. Vi begiver os ud på en årtusindlang rejse gennem den græske mytologi og den hebraiske Kabbalah\, hvor Enoks hemmeligheder åbenbarer sig. \nVi vil lære om ærkeenglenes visdom\, forbindelsen til moderne videnskab som matematik og biokemi\, og om “intuitionshuse” omgivet af floder af levende ild. Bogen giver os også dybdegående information om UFO’er og Merkabah. \nI studiekredsen anvender vi en bred vifte af åndsvidenskabelige kilder. Har du lyst til at udfordre din bevidsthed og udforske de hellige skrifters mere ukendte sider\, er denne studiekreds måske noget for dig. \nKontakt mig hvis du er interesse på Mail kim@bkimpedersen.dk \n\nPraktisk information\n\n\n29 august kl: 10:00 – 13:30\n26 september\n17 oktober\n28 november\n12 december\n\n\nMødegange: 5 gange i efteråret 2025\n\nPris pr gang 150\,00 \nEr du interesse så kontakt mig på mail kim@bkimpedersen.dk
URL:https://bkimpedersen.dk/event/enoks-noegler-fortsat-i-himmeland/2025-12-12/
CATEGORIES:Enok's Nøgler
ATTACH;FMTTYPE=image/jpeg:https://bkimpedersen.dk/wp-content/uploads/2020/01/enok_til-salg-1.jpg
END:VEVENT
BEGIN:VEVENT
DTSTART;TZID=Europe/Copenhagen:20251221T190000
DTEND;TZID=Europe/Copenhagen:20251221T220000
DTSTAMP:20260422T195848
CREATED:20251215T123442Z
LAST-MODIFIED:20251215T123653Z
UID:10000895-1766343600-1766354400@bkimpedersen.dk
SUMMARY:Vintersolhvervs-Ritual & Årets Store Kanalisering Aalborg
DESCRIPTION:Vintersolhvervs-Ritual\n \n Årets Store Kanalisering\nVintersolhvervs-Ritual & Årets Store Kanalisering  \nVagtskifte i Engleriget: Fra Michael til Rafael \nVi står ved årets store kosmiske port. December mørket markerer overgangen fra Skytten til Stenbukken – et skift\, hvor vi går fra udrensning til heling. Kom og vær med til en aften i teosofiens og lysets tegn\, hvor vi forener nordisk kraft\, kristen mystik og Kabbalaens visdom i et smukt ritual. \nAftenens forløb: \nLysritualet ved Livets Træ: Vi tænder lysene på træet\, som i aftenens anledning repræsenterer Kabbalaens hellige Livets Træ. Vi aktiverer kuglerne som energicentre for at skabe en bro mellem himmel og jord. \n\nDet Kosmiske Vagtskifte: Vi markerer det store skift i energierne. Vi takker Ærkeenglen Michael (Skytten) for hans sværd og styrke i efteråret\, og byder velkommen til Ærkeenglen Gabriel (Stenbukken). Gabriel\, der virker i sindet\, der nu tager over for at nære det spæde lys og bringe ro til sjælen.\n\nHØJDEPUNKT: Kanalisering for Det Nye År Aftenen kulminerer i en dyb og intensiv kanalisering. Her stiller vi ind på de store engleordener – herunder Tronerne\, der repræsenterer den guddommelige vilje. Vi åbner os for at modtage direkte vejledning fra de højere riger: \nHvad er det åndelige budskab for det kommende år? \n\nHvilke energier skal vi navigere i?\nHvordan finder vi bedst balancen i den nye tid?\n\nKom med et åbent sind og vær med til at modtage visdom\, håb og heling til rejsen ind i det nye år. \nris\n\nAlmen DKK 150\,00\nPensionist DKK 150\,00\n\nTilmeld
URL:https://bkimpedersen.dk/event/vintersolhvervs-ritual-aarets-store-kanalisering-aalborg/
LOCATION:https://www.den-rytmiske-nordkraft.dk/\, Teglgaards Plads 1. 7.sal\,\, Aalborg\, 9000
CATEGORIES:Teosofi
ATTACH;FMTTYPE=image/jpeg:https://bkimpedersen.dk/wp-content/uploads/2022/11/Jule-dekration-scaled.jpg
END:VEVENT
BEGIN:VEVENT
DTSTART;TZID=Europe/Copenhagen:20251227T100000
DTEND;TZID=Europe/Copenhagen:20251227T171000
DTSTAMP:20260422T195848
CREATED:20251215T124303Z
LAST-MODIFIED:20251215T124303Z
UID:10000896-1766829600-1766855400@bkimpedersen.dk
SUMMARY:JULESINDET OG DET INDRE JULETRÆ – ET JULEKURSUS I SINDETS TEGN Aalborg
DESCRIPTION:JULESINDET OG DET INDRE JULETRÆ –\nET JULEKURSUS I SINDETS TEGN\n  \n \nEr du klar til at tænde lyset i sindet og træde ind i julens indre mysterium? \nÅrets julekursus har sindet som omdrejningspunkt. Vi bevæger os indad – dybere ind mod vores indre legemer – og her møder vi sindet som en central nøgle til forståelse\, fordybelse og forvandling. \nIfølge åndsvidenskabelige kilder er sindet forbundet med tre store hovedtemaer i menneskets indre udvikling. På dette kursus vil vi undersøge sindets lag – og hvordan julens særlige stemninger påvirker det. Fra decembers travlhed med gaver\, julefrokoster og forberedelser\, til selve juleaften og de efterfølgende helligdage\, hvor stilheden og refleksionen kan tage over. \nVi spørger: Hvad sker der i sindet\, når julen rammer sin kerne? Hvordan oplever vi den indre jul – ikke kun som en ydre fejring\, men som en spirituel bevægelse dybt i vores væsen? \nI løbet af kurset dykker vi også ned i teosofiens syn på sindet og dets rolle i menneskets evolution. Vi arbejder med relationen mellem julesindet\, lysvæsener og de engleordener\, der støtter menneskehedens udvikling. Særligt ser vi nærmere på julesymbolikken\, ærkeenglene og spørgsmålet: Er det mon hjul-englene\, der har lagt navn til højtiden? \nVi vil lade Orions lys skinne ind over de tre stjernebilleder\, som er knyttet til juletiden – Skytten\, Stenbukken og Vandbæreren – og lade deres visdom åbne døre i vores bevidsthed. Med tarotkortene som spejl vil vi både se tilbage på 2025 og kigge ind i 2026. Vi afslutter med en healings meditation\, hvor vi slipper det gamle og giver sindet ny plads og retning. \nDette kursus er for dig\, der ønsker at forbinde den ydre højtid med en indre rejse – og som længes efter at opleve både juleglansen og julefredens dybere mening. \nKurset hviler på en bred vifte af åndsvidenskabelige kilder såsom Enoks Nøgler\, Kabbalah\, astrologi\, tarot og den bærende grundenergi: Teosofien. \n\n\nLørdag 27.12.25 kl. 10:00 – 17:10 \nSted: Den Rytmiske i Nordkraft\nTeglgårds Plads 1 – Niveau 7 \nLokale: Lokale 3 \n\n\nPris\n\n\nAlmen DKK 370\,00\n\nPensionist DKK 318\,00\nFørtidspensionist DKK 318\,00\nkontanthjælps-modtager DKK 318\,00\nArbejdsledig DKK 318\,00\nSyge-dagpenge DKK 318\,00\nStuderende DKK 250\,00\nUnge 18- 25 år DKK 250\,00\n\n\n\n\nTilmeld
URL:https://bkimpedersen.dk/event/julesindet-og-det-indre-juletrae-et-julekursus-i-sindets-tegn-aalborg/
LOCATION:https://www.den-rytmiske-nordkraft.dk/\, Teglgaards Plads 1. 7.sal\,\, Aalborg\, 9000
CATEGORIES:Teosofi
ATTACH;FMTTYPE=image/jpeg:https://bkimpedersen.dk/wp-content/uploads/2021/12/sopgang.jpeg
END:VEVENT
BEGIN:VEVENT
DTSTART;TZID=Europe/Copenhagen:20251229T100000
DTEND;TZID=Europe/Copenhagen:20251230T160000
DTSTAMP:20260422T195848
CREATED:20251215T125000Z
LAST-MODIFIED:20251215T125000Z
UID:10000897-1767002400-1767110400@bkimpedersen.dk
SUMMARY:JULESINDET OG DET INDRE JULETRÆ – ET JULEKURSUS I SINDETS TEGN København
DESCRIPTION:JULESINDET OG DET INDRE JULETRÆ\nET JULEKURSUS I SINDETS TEGN\n \nEr du klar til at tænde lyset i sindet og træde ind i julens indre mysterium? \nÅrets julekursus har sindet som omdrejningspunkt. Vi bevæger os indad – dybere ind mod vores indre legemer – og her møder vi sindet som en central nøgle til forståelse\, fordybelse og forvandling. \nIfølge åndsvidenskabelige kilder er sindet forbundet med tre store hovedtemaer i menneskets indre udvikling. På dette kursus vil vi undersøge sindets lag – og hvordan julens særlige stemninger påvirker det. Fra decembers travlhed med gaver\, julefrokoster og forberedelser\, til selve juleaften og de efterfølgende helligdage\, hvor stilheden og refleksionen kan tage over. \nVi spørger: Hvad sker der i sindet\, når julen rammer sin kerne? Hvordan oplever vi den indre jul – ikke kun som en ydre fejring\, men som en spirituel bevægelse dybt i vores væsen? \nI løbet af kurset dykker vi også ned i teosofiens syn på sindet og dets rolle i menneskets evolution. Vi arbejder med relationen mellem julesindet\, lysvæsener og de engleordener\, der støtter menneskehedens udvikling. Særligt ser vi nærmere på julesymbolikken\, ærkeenglene og spørgsmålet: Er det mon hjul-englene\, der har lagt navn til højtiden? \nVi vil lade Orions lys skinne ind over de tre stjernebilleder\, som er knyttet til juletiden – Skytten\, Stenbukken og Vandbæreren – og lade deres visdom åbne døre i vores bevidsthed. Med tarotkortene som spejl vil vi både se tilbage på 2025 og kigge ind i 2026. Vi afslutter med en healings meditation\, hvor vi slipper det gamle og giver sindet ny plads og retning. \nDette kursus er for dig\, der ønsker at forbinde den ydre højtid med en indre rejse – og som længes efter at opleve både juleglansen og julefredens dybere mening. \nKurset hviler på en bred vifte af åndsvidenskabelige kilder såsom Enoks Nøgler\, Kabbalah\, astrologi\, tarot og den bærende grundenergi: Teosofien. \nPris for weekenden: Kr. 950/ 1150 for medlemmer/gæster.\nI prisen indgår kaffe\, the og lette traktementer. Frokosten sørger man selv for. \nVed framelding tilbageholdes 100 kr. til administration.\nBemærk: Din plads er først reserveret\, når beløbet er modtaget. \nLink til Guide: Bestil billet på Billetto
URL:https://bkimpedersen.dk/event/julesindet-og-det-indre-juletrae-et-julekursus-i-sindets-tegn-koebenhavn/
LOCATION:Teosofisk Forening København\, Sankt Knuds Vej 27 A\, Frederiksberg C\, 1903\, Denmark
CATEGORIES:Teosofi
ATTACH;FMTTYPE=image/jpeg:https://bkimpedersen.dk/wp-content/uploads/2021/12/sopgang.jpeg
END:VEVENT
END:VCALENDAR