BEGIN:VCALENDAR
VERSION:2.0
PRODID:-//bkimpedersen.dk - ECPv6.15.20//NONSGML v1.0//EN
CALSCALE:GREGORIAN
METHOD:PUBLISH
X-WR-CALNAME:bkimpedersen.dk
X-ORIGINAL-URL:https://bkimpedersen.dk
X-WR-CALDESC:Begivenheder for bkimpedersen.dk
REFRESH-INTERVAL;VALUE=DURATION:PT1H
X-Robots-Tag:noindex
X-PUBLISHED-TTL:PT1H
BEGIN:VTIMEZONE
TZID:Europe/Paris
BEGIN:DAYLIGHT
TZOFFSETFROM:+0100
TZOFFSETTO:+0200
TZNAME:CEST
DTSTART:20220327T010000
END:DAYLIGHT
BEGIN:STANDARD
TZOFFSETFROM:+0200
TZOFFSETTO:+0100
TZNAME:CET
DTSTART:20221030T010000
END:STANDARD
BEGIN:DAYLIGHT
TZOFFSETFROM:+0100
TZOFFSETTO:+0200
TZNAME:CEST
DTSTART:20230326T010000
END:DAYLIGHT
BEGIN:STANDARD
TZOFFSETFROM:+0200
TZOFFSETTO:+0100
TZNAME:CET
DTSTART:20231029T010000
END:STANDARD
BEGIN:DAYLIGHT
TZOFFSETFROM:+0100
TZOFFSETTO:+0200
TZNAME:CEST
DTSTART:20240331T010000
END:DAYLIGHT
BEGIN:STANDARD
TZOFFSETFROM:+0200
TZOFFSETTO:+0100
TZNAME:CET
DTSTART:20241027T010000
END:STANDARD
END:VTIMEZONE
BEGIN:VEVENT
DTSTART;TZID=Europe/Paris:20230131T190000
DTEND;TZID=Europe/Paris:20230131T213000
DTSTAMP:20260420T080037
CREATED:20230129T224742Z
LAST-MODIFIED:20230129T224742Z
UID:10000677-1675191600-1675200600@bkimpedersen.dk
SUMMARY:1 – Personligheden – sjælens aktivitetsområde Online foredrag:
DESCRIPTION:1 – 5  Personligheden – sjælens aktivitetsområde\n \nOnline foredrag:\nFORDYBELSE I LYSET AF TEOSOFIEN\nVi kigger ind i personlighedens verden. Hvem\, hvad er den og hvorfra stammer dens oprindelse? Hvordan fungerer den sammen med de relationer vi møder gennem livet\, som sjælen stiller til rådighed? \nTeosofien tager ikke tit personligheden op som det store emne.\, Hvilke legemer skal personligheden bruge for at udvikle discipelskab på de tre planer? Det vil vi over en række foredrag kaste lys over. \nTilmelding: på Teosofisk forening København https://teosofiskforening.dk/begivenhed/online-foredrag-fordybelse-i-lyset-af-teosofien-1-ved-kim-pedersen/ \n  \nOversigt over titlerne i foredragsrækken med datoer:\nTirsdag den 31. jan\n1 – Personligheden – sjælens aktivitetsområde \nTirsdag den 7. marts\n2 – Den fysiske krops oprindelse \nTirsdag den 4. april\n3 – Æterlegemets bevægelser \nTirsdag den 2. maj\n4 – Stjernelegemet \nTirsdag den 6. juni\n5 – Det mentale tempel \n  \n 
URL:https://bkimpedersen.dk/event/1-personligheden-sjaelens-aktivitetsomraade-online-foredrag/
CATEGORIES:Online foredrag,Teosofi
ATTACH;FMTTYPE=image/png:https://bkimpedersen.dk/wp-content/uploads/2019/07/Logoteosofi.png
END:VEVENT
BEGIN:VEVENT
DTSTART;TZID=Europe/Paris:20230203T150000
DTEND;TZID=Europe/Paris:20230205T160000
DTSTAMP:20260420T080037
CREATED:20230129T232746Z
LAST-MODIFIED:20230129T232746Z
UID:10000685-1675436400-1675612800@bkimpedersen.dk
SUMMARY:ESOTERISK UDDANNELSE 2023 Temaet er HJERTETS VISDOM Den gyldne cirkel Frederiksværk
DESCRIPTION:ESOTERISK UDDANNELSE 2023 \nDen Gyldne Cirkel \n \n\n\n\n\nTemaet er\nHJERTETS VISDOM\n3 weekender: 3. – 5. februar\, 5. – 7. maj og 20. – 22. oktober 2023 \nUndervisning fra fredag kl. 15.00 til søndag kl. 16.00 \n\n\n\n\nDette år på den esoteriske uddannelse bliver igen et år\, der står på en helt ny måde og venter på os. Her i Norden havde vi et menneske\, som brugte meget af sit levende liv på at studere hjertets mange kvaliteter. Dets relation til indvielsesvej\, egne relationer til menneskeheden og ligeledes relation til alle de 12 hjerteblade\, som ligger i den egoiske lotus. Manden her er Asger Lorentsen\, så dette år vil vi bruge hans bog\, hans egen åndsforskning\, nemlig Hjertets visdom. \nDenne bog kommer til at ligge som en grundtone henover hele året. Det kommer også til at give dig muligheden for at finde nye døre i dybden i dit hjertecenter i et helt år og vi vil hente meget inspiration i de forskellige dele\, som er i bogen. \n\n\n\n\nLæs videre inde på deres hjemmeside linket er her: https://www.dengyldnecirkel.dk/esoterisk-uddannelse-2023/
URL:https://bkimpedersen.dk/event/esoterisk-uddannelse-2023-temaet-er-hjertets-visdom-den-gyldne-cirkel-frederiksvaerk/2023-02-03/
LOCATION:Den Gyldne Cirkel\, Sonnerupvej 25\, Frederiksværk\, 3300\, Denmark
CATEGORIES:Teosofisk fordybelses kursus
ATTACH;FMTTYPE=image/jpeg:https://bkimpedersen.dk/wp-content/uploads/2023/01/thumbnail_hjertets-visdom.jpg
END:VEVENT
END:VCALENDAR