BEGIN:VCALENDAR
VERSION:2.0
PRODID:-//bkimpedersen.dk - ECPv6.15.20//NONSGML v1.0//EN
CALSCALE:GREGORIAN
METHOD:PUBLISH
X-WR-CALNAME:bkimpedersen.dk
X-ORIGINAL-URL:https://bkimpedersen.dk
X-WR-CALDESC:Begivenheder for bkimpedersen.dk
REFRESH-INTERVAL;VALUE=DURATION:PT1H
X-Robots-Tag:noindex
X-PUBLISHED-TTL:PT1H
BEGIN:VTIMEZONE
TZID:Europe/Paris
BEGIN:DAYLIGHT
TZOFFSETFROM:+0100
TZOFFSETTO:+0200
TZNAME:CEST
DTSTART:20220327T010000
END:DAYLIGHT
BEGIN:STANDARD
TZOFFSETFROM:+0200
TZOFFSETTO:+0100
TZNAME:CET
DTSTART:20221030T010000
END:STANDARD
BEGIN:DAYLIGHT
TZOFFSETFROM:+0100
TZOFFSETTO:+0200
TZNAME:CEST
DTSTART:20230326T010000
END:DAYLIGHT
BEGIN:STANDARD
TZOFFSETFROM:+0200
TZOFFSETTO:+0100
TZNAME:CET
DTSTART:20231029T010000
END:STANDARD
BEGIN:DAYLIGHT
TZOFFSETFROM:+0100
TZOFFSETTO:+0200
TZNAME:CEST
DTSTART:20240331T010000
END:DAYLIGHT
BEGIN:STANDARD
TZOFFSETFROM:+0200
TZOFFSETTO:+0100
TZNAME:CET
DTSTART:20241027T010000
END:STANDARD
END:VTIMEZONE
BEGIN:VEVENT
DTSTART;TZID=Europe/Paris:20230208T190000
DTEND;TZID=Europe/Paris:20230222T220000
DTSTAMP:20260419T225108
CREATED:20230129T234111Z
LAST-MODIFIED:20230129T234111Z
UID:10000688-1675882800-1677103200@bkimpedersen.dk
SUMMARY:Kabbala - Grundskole Modul 1 - feb 2023
DESCRIPTION:Kabbala – Grundskole\n \nWEBINAR\, online undervisning via Google Meet \nModul 1 – feb 2023\n8. februar\, 15. februar og 22. februar\n(Grundskole – 4 moduler) \nAt værdsætte livets øjeblikke\n \nKabbalah handler om at modtage et budskab og give det videre. Når noget eller nogen åbenbarer sig for os\, har det ofte den eftervirkning at vække inspiration\, forundring og glæde. Måske frigiver budskabet ligefrem en vilje til at være smuk og modig.  \nVi tager på en rejse hen over de forskellige traditioner i Kabbalah og slutter vores rejse i den hermetisk Kabbalah\, hvor vi forbliver under forløbet.  \nVi vil i løbet af fire moduler (hver over 3 onsdage fra kl.19-22) undersøge en række af de mange mysterier\, som har været med til at inspirere verden i flere århundreder. \nDer vil blive brugt visualiseringsøvelser til at skabe et indblik i dagens tema\, således vi kan få glæde af vort indre og ydre liv i Kabbalah’en mystiske virke. \nI samarbejde med forlaget\, læs videre her  https://www.lemuelbooks.dk/vare/kabbala—grundkursus-modul-1 \nUndervisningen er til private \n Hvert modul er 9 timers undervisning (inklusiv pauser) fordelt på 3 onsdage fra kl.19-22.  \nMODUL 1 – DELTAGERPRIS:  1000 DKK \n(8. februar\, 15. februar og 22. februar 2023) \nMODUL 2 – DELTAGERPRIS:  1000 DKK \n(15. marts\, 22. marts og 29. marts 2023) \nMODUL 3 – DELTAGERPRIS:  1000 DKK \n(12. april\, 19. april og 26. april 2023) \nMODUL 4 – DELTAGERPRIS:  1000 DKK \n(17. maj\, 24. maj og 31. maj 2023)
URL:https://bkimpedersen.dk/event/kabbala-grundskole-modul-1-feb-2023/2023-02-08/
ATTACH;FMTTYPE=image/webp:https://bkimpedersen.dk/wp-content/uploads/2023/01/kabba_grund_1.webp
END:VEVENT
BEGIN:VEVENT
DTSTART;TZID=Europe/Paris:20230211T090000
DTEND;TZID=Europe/Paris:20230211T151500
DTSTAMP:20260419T225108
CREATED:20230129T234750Z
LAST-MODIFIED:20230129T234750Z
UID:10000691-1676106000-1676128500@bkimpedersen.dk
SUMMARY:Verdensjælens opvågning - Den nye udviklingsvej Aalborg
DESCRIPTION:Verdensjælen opvågning\n \nDen nye udviklingsvej\nVerdenssjælens opvågning (eller Verdenssjælens tilsynekomst) – Inspiration\, nysgerrighed og venlige synteser Har du lyst til at udfordre dig selv og give din sjæl mere plads i dit liv og lade sjælen skabe et bevidsthedslaboratorium i dit liv? Er du klar til at gå længere ind i kærlighedens mysterium\, føre den videre til syntese og lade din kærlighed berøre visdommen? Disse temaer er naturlige for Lucille Cedercrans i hendes bog\, Indtryk fra ashrammen. Forløbet vil ikke køre som en studiekreds. Inspirationen hentes fra bogen og vil blive omsat til undervisningslektioner. Forløbet er opdelt\, således det rækker over to år med tre weekender hvert år. Der vil blive refereret til en bred vifte af åndsvidenskabelige kilder\, men hovedkilden vil være Teosofien. Der vil være en god tid mellem weekenderne\, en tid tiltænkt til at lade tingene synke ned i din bevidsthed. Måske vil du opdage nye muligheder i mellemtiden\, måske opfange nye interesser og se en forskønnelse af dine omgivelser. Nye inspirationskilder træder måske frem i dine drømme\, og du oplever måske også mod til at tænke på nye og spændende måder. Det er ikke et krav\, at du læser kapitlerne hver gang. Du er naturligvis velkommen til at deltage i kurset\, som det passer dig\, men ønsker du et rigt udbytte af kurset\, anbefaler jeg\, at du læser bogen igennem og derefter fordyber dig i kapitlerne\, som vi gennemgår til hver weekend. På den måde er du bedre i stand til at stille de gode spørgsmål til de enkelte weekender. \nDen nye udviklingsvej kapitel 4  \nMange traditioner fortæller om indvielse af forskellige slags. Som enkelt individ går vi gennem indvielser hele vort liv\, men det gør vi også som gruppelegeme. Vi undersøger hvad det vil sige at gennemgå en indvielse. Hvordan udvides bevidstheden? Hvordan udvikler vi os som fysisk menneske her på jorden og som søgende sjæl\, der længes efter himmelske meninger? Hvor mange bevidsthedstrin findes der? Er der overhovedet nogen? \nTilmeld \nUndervisningssted\n\nHaraldslund\nKastetvej 83\,\n\n9000 Aalborg
URL:https://bkimpedersen.dk/event/verdensjaelens-opvaagning-den-nye-udviklingsvej-aalborg/
CATEGORIES:Teosofisk fordybelses kursus
ATTACH;FMTTYPE=image/jpeg:https://bkimpedersen.dk/wp-content/uploads/2019/05/logo_2015_1200.jpg
END:VEVENT
END:VCALENDAR