BEGIN:VCALENDAR
VERSION:2.0
PRODID:-//bkimpedersen.dk - ECPv6.15.20//NONSGML v1.0//EN
CALSCALE:GREGORIAN
METHOD:PUBLISH
X-ORIGINAL-URL:https://bkimpedersen.dk
X-WR-CALDESC:Begivenheder for bkimpedersen.dk
REFRESH-INTERVAL;VALUE=DURATION:PT1H
X-Robots-Tag:noindex
X-PUBLISHED-TTL:PT1H
BEGIN:VTIMEZONE
TZID:Europe/Copenhagen
BEGIN:DAYLIGHT
TZOFFSETFROM:+0100
TZOFFSETTO:+0200
TZNAME:CEST
DTSTART:20240331T010000
END:DAYLIGHT
BEGIN:STANDARD
TZOFFSETFROM:+0200
TZOFFSETTO:+0100
TZNAME:CET
DTSTART:20241027T010000
END:STANDARD
BEGIN:DAYLIGHT
TZOFFSETFROM:+0100
TZOFFSETTO:+0200
TZNAME:CEST
DTSTART:20250330T010000
END:DAYLIGHT
BEGIN:STANDARD
TZOFFSETFROM:+0200
TZOFFSETTO:+0100
TZNAME:CET
DTSTART:20251026T010000
END:STANDARD
BEGIN:DAYLIGHT
TZOFFSETFROM:+0100
TZOFFSETTO:+0200
TZNAME:CEST
DTSTART:20260329T010000
END:DAYLIGHT
BEGIN:STANDARD
TZOFFSETFROM:+0200
TZOFFSETTO:+0100
TZNAME:CET
DTSTART:20261025T010000
END:STANDARD
END:VTIMEZONE
BEGIN:VEVENT
DTSTART;TZID=Europe/Copenhagen:20250605T183000
DTEND;TZID=Europe/Copenhagen:20250605T213000
DTSTAMP:20260422T220207
CREATED:20250102T210954Z
LAST-MODIFIED:20250102T210954Z
UID:10000823-1749148200-1749159000@bkimpedersen.dk
SUMMARY:Enoks nøgler online fortsat\,  Dansk Studier gruppe
DESCRIPTION:Enoks nøgler online \n \nDansk studiekreds fortsætter \nStudiekredsen fortsætter sit arbejde med “Enoks Nøgler” hen over foråret. Vi dykker ned i Hurtaks fascinerende bog om Enoks hemmeligheder og lader os inspirere af dens visdom. \nSammen vil vi udforske stjernebilledernes betydning\, herunder Nordstjernen\, Orion\, Store Bjørn\, Plejaderne og de tolv tegn i dyrekredsen. Vi begiver os ud på en årtusindlang rejse gennem den græske mytologi og den hebraiske Kabbalah\, hvor Enoks hemmeligheder åbenbarer sig. \nVi vil lære om ærkeenglenes visdom\, forbindelsen til moderne videnskab som matematik og biokemi\, og om “intuitionshuse” omgivet af floder af levende ild. Bogen giver os også dybdegående information om UFO’er og Merkabah. \nI studiekredsen anvender vi en bred vifte af åndsvidenskabelige kilder. Har du lyst til at udfordre din bevidsthed og udforske de hellige skrifters mere ukendte sider\, er denne studiekreds måske noget for dig. \nKontakt mig hvis du er interesse på Mail kim@bkimpedersen.dk \npris pr. aften er 150\,00 \nOnline aften \n01- torsdag 09 januar kl. 18:30 – 21:30 \n02- torsdag 06 februar kl. 18:30 – 21:30 \n03- torsdag 06 marts kl. 18:30 – 21.30 \n04- torsdag 03 april kl. 18:30 – 21:30 \n05- torsdag 08 maj kl. 18:30 – 21:30 \n06- torsdag 05 juni kl. 18:30 – 21:30
URL:https://bkimpedersen.dk/event/enoks-noegler-online-fortsat-dansk-studier-gruppe/2025-06-05/
CATEGORIES:Enok's Nøgler
ATTACH;FMTTYPE=image/jpeg:https://bkimpedersen.dk/wp-content/uploads/2020/01/enok_til-salg-1.jpg
END:VEVENT
END:VCALENDAR