BEGIN:VCALENDAR
VERSION:2.0
PRODID:-//bkimpedersen.dk - ECPv6.15.20//NONSGML v1.0//EN
CALSCALE:GREGORIAN
METHOD:PUBLISH
X-WR-CALNAME:bkimpedersen.dk
X-ORIGINAL-URL:https://bkimpedersen.dk
X-WR-CALDESC:Begivenheder for bkimpedersen.dk
REFRESH-INTERVAL;VALUE=DURATION:PT1H
X-Robots-Tag:noindex
X-PUBLISHED-TTL:PT1H
BEGIN:VTIMEZONE
TZID:Europe/Copenhagen
BEGIN:DAYLIGHT
TZOFFSETFROM:+0100
TZOFFSETTO:+0200
TZNAME:CEST
DTSTART:20240331T010000
END:DAYLIGHT
BEGIN:STANDARD
TZOFFSETFROM:+0200
TZOFFSETTO:+0100
TZNAME:CET
DTSTART:20241027T010000
END:STANDARD
BEGIN:DAYLIGHT
TZOFFSETFROM:+0100
TZOFFSETTO:+0200
TZNAME:CEST
DTSTART:20250330T010000
END:DAYLIGHT
BEGIN:STANDARD
TZOFFSETFROM:+0200
TZOFFSETTO:+0100
TZNAME:CET
DTSTART:20251026T010000
END:STANDARD
BEGIN:DAYLIGHT
TZOFFSETFROM:+0100
TZOFFSETTO:+0200
TZNAME:CEST
DTSTART:20260329T010000
END:DAYLIGHT
BEGIN:STANDARD
TZOFFSETFROM:+0200
TZOFFSETTO:+0100
TZNAME:CET
DTSTART:20261025T010000
END:STANDARD
END:VTIMEZONE
BEGIN:VEVENT
DTSTART;TZID=Europe/Copenhagen:20250818T190000
DTEND;TZID=Europe/Copenhagen:20250818T220000
DTSTAMP:20260421T063135
CREATED:20250619T143230Z
LAST-MODIFIED:20250619T143230Z
UID:10000855-1755543600-1755554400@bkimpedersen.dk
SUMMARY:TAROT-Billeder som port mellem krop\, sind og ånd. 5 SOMMER FOREDRAG
DESCRIPTION:TAROT-Billeder som port mellem krop\, sind og ånd\n\n5 SOMMER FOREDRAG\n\n\nVi lever i en verden gennemsyret af billeder og symboler – både i og omkring os. Fra hverdagens ikoner på vejskilte og mobiltelefoner til drømmenes dybere budskaber – vores bevidsthed er konstant optaget af at tolke og kommunikere gennem symboler. \nDenne universelle sandhed genfindes også i de ældgamle esoteriske traditioner\, hvor billedsproget spiller en central rolle. I både Kabbalah og tarot fungerer billedverdenen som en essentiel bro mellem legeme\, sjæl og ånd. \nDenne sommer inviteres du til en dybdegående rejse ind i en mystisk og kraftfuld billedserie: de 78 Tarot-billeder. Gennem århundreder er disse blevet brugt til indre vejledning\, sjælerejse og dyb spirituel indsigt og drømme. \nTarot-billederne er uløseligt forbundet med Livets Træ – Kabbalah. Hver aften vil vi åbne en ny “verden” i dette træ\, hvor vi udforsker både kortenes rige symbolik og deres dybe indre resonans i os som mennesker. \nVores tilgang bygger på den overbevisning\, at disse billeder er langt mere end blot “symboler”. De er levende porte ind til forståelsen af vores egen eksistens og vores uanede potentiale. \nSom afslutning på hver aften vil vi åbne rummet for en dybere integration af dagens tema. Vi deler os op i små grupper (3 personer)\, hvor I får mulighed for at dele indtryk og indsigter fra aftenens foredrag. Denne deling er en mulighed for at forankre jeres oplevelser og få nye perspektiver fra hinanden i et trygt og fortroligt rum. \n\nDE 5 FOREDRAG:\n\n\n\n  \n\n\n  \n🟣 5. aften – Luftens verden: Sværdene og åndens rige \n \n(Mandag d. 18.8.) \nSom en magisk afslutning løftes sløret for åndens domæne – luftens verden\, forbundet med Livets Træs Yetzirah (luft) og kulminationen i Kether. Her ser vi på sværdenes kort og deres forbindelse til tanker\, erkendelse\, indsigter og det store\, overordnede perspektiv. \nVi kigger mod Kether – det guddommelige lys i toppen af Livets Træ – og stiller det dybe spørgsmål: Hvilket billede er du selv skabt i? Hvad er din essens\, og hvordan kan du leve i alignment med dit højere selv? \nDette bliver en magisk afslutning på en billedrejse gennem både det indre og det ydre menneske\, hvor du vil stå stærkere i din forståelse af dig selv og universet. \n\nPraktisk information\n\nHold nr: 251954\nFørste møde: 18.08.25 kl. 19:00\nMødegange: 1\nLektioner: 1\n\n\n\nPris Almen DKK 150\,00\n\nPensionist DKK 150\,00\n\n\n\nTilmeld
URL:https://bkimpedersen.dk/event/tarot-billeder-som-port-mellem-krop-sind-og-aand-5-sommer-foredrag-5/
LOCATION:https://www.den-rytmiske-nordkraft.dk/\, Teglgaards Plads 1. 7.sal\,\, Aalborg\, 9000
CATEGORIES:Tarot
ATTACH;FMTTYPE=image/jpeg:https://bkimpedersen.dk/wp-content/uploads/2025/06/tarot-enok-1-300x269-1.jpg
END:VEVENT
BEGIN:VEVENT
DTSTART;TZID=Europe/Copenhagen:20250819T190000
DTEND;TZID=Europe/Copenhagen:20250819T213000
DTSTAMP:20260421T063135
CREATED:20250701T094518Z
LAST-MODIFIED:20250701T094518Z
UID:10000860-1755630000-1755639000@bkimpedersen.dk
SUMMARY:TAROT-Billeder som port mellem krop\, sind og ånd. AARHUS 5 SOMMER FOREDRAG
DESCRIPTION:TAROT-Billeder som port mellem krop\, sind og ånd\n \n 5 SOMMER FOREDRAG\nVi lever i en verden gennemsyret af billeder og symboler – både i og omkring os. Fra hverdagens ikoner på vejskilte og mobiltelefoner til drømmenes dybere budskaber – vores bevidsthed er konstant optaget af at tolke og kommunikere gennem symboler. \nDenne universelle sandhed genfindes også i de ældgamle esoteriske traditioner\, hvor billedsproget spiller en central rolle. I både Kabbalah og tarot fungerer billedverdenen som en essentiel bro mellem legeme\, sjæl og ånd. \nDenne sommer inviteres du til en dybdegående rejse ind i en mystisk og kraftfuld billedserie: de 78 Tarot-billeder. Gennem århundreder er disse blevet brugt til indre vejledning\, sjælerejse og dyb spirituel indsigt og drømme. \nTarot-billederne er uløseligt forbundet med Livets Træ – Kabbalah. Hver aften vil vi åbne en ny “verden” i dette træ\, hvor vi udforsker både kortenes rige symbolik og deres dybe indre resonans i os som mennesker. \nVores tilgang bygger på den overbevisning\, at disse billeder er langt mere end blot “symboler”. De er levende porte ind til forståelsen af vores egen eksistens og vores uanede potentiale. \nSom afslutning på hver aften vil vi åbne rummet for en dybere integration af dagens tema. Vi deler os op i små grupper (3 personer)\, hvor I får mulighed for at dele indtryk og indsigter fra aftenens foredrag. Denne deling er en mulighed for at forankre jeres oplevelser og få nye perspektiver fra hinanden i et trygt og fortroligt rum. \nDE 5 FOREDRAG:\n🟣 1. aften – Livets Træ\, de fire verdener og de 16 hof-billeder (tirsdag d. 22.7.)\n \nVi indleder vores rejse med en introduktion til Livets Træ\, som udgør den dybere arkitektur bag tarotkortene. Vi dykker ned i træets fascinerende opbygning gennem de fire verdener: \n\nAtziluth (Luft – Ånd): Udgangspunktet for al skabelse og guddommelig vilje.\nBriah (Ild – Sjælens verden): Intuitiv visdom og sjælens dybder.\nYetzirah (vand –  Personligheden og Sind): Tanker\, ideer og den formende kraft.\nAssiah (Jord – Krop): Den fysiske manifestation og det jordiske liv.\n\nDenne aften ser vi på træet og hofkortene/billederne til foredragsrækken. Vi udforsker\, hvordan billederne i Tarot skaber levende forbindelser mellem disse verdener – og vigtigst af alt\, hvordan du som deltager kan begynde at anvende denne ældgamle struktur i dit eget liv for at opnå dybere indsigt og personlig vækst. \n\n🟣 2. aften – Jordens verden: Mønterne og prinsesserne (tirsdag d. 29.7.)\n \nVi fordyber os i det jordiske og kropslige under denne aften\, hvor fokus er på tarotkortene i mønternes og deres dybe tilknytning til Livets Træets nederste del og kroppen. \nSammen udforsker vi\, hvad disse kort fortæller os om vores forhold til materie\, arbejde\, vores krop og det praktiske liv. Hvordan manifesteres vores drømme og ønsker i den fysiske verden? Vi ser også nærmere på prinsesserne\, der symboliserer nye begyndelser\, vækst og konkrete manifestationer. \nDenne aften er din chance for måske at opdage dine egne rødder – hvad holder dig fast\, og hvad ønsker du at plante og lade vokse i dit liv? \n  \n🟣 3. aften – Vandets verden: Bægrene og følelseslivet (tirsdag d. 5.8.)\n \nDenne aften dykker vi ned i personlighedens landskab og vandelementets verden – direkte forbundet med Livets Træs Briah. \nVi undersøger\, hvordan følelser\, relationer og længsler arbejder i os\, og hvordan dette afspejles i kortene i bæger-serien. Få indsigt i dit følelseslivs dybder. Desuden ser vi på auraens lag og de subtile legemer – det æteriske\, astrale og mentale – og hvordan disse lag forbinder os med den indre billedverden og vores intuitive sanser. \n  \n🟣 4. aften – Ildens verden: Stokkene og sjælens bevægelse (tirsdag d. 12.8.)\n \nIlden står for vilje\, passion og åndelig energi. Denne aften åbner vi for sjælens område i Livets Træ – Atziluth – det sted\, hvor vores dybeste livs retning og mening udspringer. \nVi arbejder med stokkene (Ild) og undersøger\, hvordan sjælen bruger billeder og begivenheder til at kommunikere med os og guide os på vores vej. Lær at tolke sjælens hvisken og dens kraftfulde impulser. \nHvad prøver din sjæl at fortælle dig netop nu\, og hvordan kan du omsætte denne indsigt til handl Afslutning: Deling i små grupper. \n  \n🟣 5. aften – Luftens verden: Sværdene og åndens rige (tirsdag d. 19.8.)\n \nSom en magisk afslutning løftes sløret for åndens domæne – luftens verden\, forbundet med Livets Træs Yetzirah (luft) og kulminationen i Kether. Her ser vi på sværdenes kort og deres forbindelse til tanker\, erkendelse\, indsigter og det store\, overordnede perspektiv. \nVi kigger mod Kether – det guddommelige lys i toppen af Livets Træ – og stiller det dybe spørgsmål: Hvilket billede er du selv skabt i? Hvad er din essens\, og hvordan kan du leve i alignment med dit højere selv? \nDette bliver en magisk afslutning på en billedrejse gennem både det indre og det ydre menneske\, hvor du vil stå stærkere i din forståelse af dig selv og universet. \nVÆLG foredrag: TILMEDINLG PÅ: https://www.lemuelbooks.dk/vare/5-sommer-foredrag-med-b.-kim-pedersen \n\n\n Dato:  Tirsdage  den 22.7.\, 29.7.\, 5.8.\, 12.8.\, 19.8. 2025\n\n\n\n\n🕘 Tid: Kl. 19- 21.30 \n📍 Sted: SALON 28\, Mejlgade 28 gård (2. sal) – 8000 Aarhus C \n💰 Pris: 200 kr. /foredrag (inkl. kaffe/te og lidt sødt) \nOBS. Nærmeste P-Hus er NAVITAS P-kælder ca. 200 meter fra Mejlgade 28. \n\n\n 
URL:https://bkimpedersen.dk/event/tarot-billeder-som-port-mellem-krop-sind-og-aand-aarhus-5-sommer-foredrag/2025-08-19/
LOCATION:LEMUEL BOOKS ApS Aarhus C.
CATEGORIES:Tarot
ATTACH;FMTTYPE=image/jpeg:https://bkimpedersen.dk/wp-content/uploads/2025/06/tarot-enok-1-300x269-1.jpg
END:VEVENT
BEGIN:VEVENT
DTSTART;TZID=Europe/Copenhagen:20250823T080000
DTEND;TZID=Europe/Copenhagen:20250823T171000
DTSTAMP:20260421T063135
CREATED:20231209T174109Z
LAST-MODIFIED:20241111T115707Z
UID:10000746-1755936000-1755969000@bkimpedersen.dk
SUMMARY:Magiker skole Aalborg
DESCRIPTION:Magiker skole\nTeosofisk visdom\n \nInspirationskilde: ”Hvid Magi” (Alice A. Bailey) \nI den nye tid hører vi om\, at der er flere nye stråler (udover de kendte 7)\, som vil give os en dybere relation både til magi og ligeledes også til ceremonielt virke. Vi kommer nok til se nye måder at organiserer os på i grupper. \nDette forløb er inspireret af Alice A. Baileys forfatterskab gennem bogen HVID MAGI og dens 15 regler (grundidéer) for den hvide magi. De 6 regler er udformet til at udbygge vores mentale legeme (mentale sundhed). De 5 regler er knyttet til den astrale dimension (billede dannende)\, og de sidste 4 regler er knyttet til den æteriske og fysiske dimension (kroppen). \nI forløbet som strækker sig over en femårig periode med tre weekender om året (plus tre opfølgende aftener mellem reglerne) kommer vi igennem de 15 regler med 1 regel pr. weekend. Opfølgningsaftenerne er online\, og weekenderne vil foregå fysisk i Aftenskolen Nordkraft i Aalborg. \nVi kommer til at klarlægge den menneskelige sjæls natur og dens samhørighed med solsystemet og kosmos. Dette omfatter grupperelationer som et indledende skridt til at anskueliggøre forholdet mellem det Højere Selv og legemerne\, som dette selv kan anvende og derved bringe klarhed i almindelig opfattelse af menneskenes konstitution. Vi belyser problemer om ovennævnte evner og åbner for idéer til brugbare udviklinger. Bogen afsluttes med en appel til sjælen hos alle aspiranter\, som læser disse instruktioner. At samle kraften og forny løftet om at tjene menneskeheden (frivilligt arbejde). \nDe nye stråler vil blive brugt i det ceremonielle arbejde\, så hver weekend kommer til at indeholde en ceremoni\, som igen er knyttet på de tre store fundamentale søjler: \nViljesstrålen\, viljen til det gode (at øge bevidstheden). \nKærligheds- og visdomsdomsstrålen (til integration). \nAktivitets- og bevægelsesstrålen (gennem blomster og lys). \nVi bruger temaer i Kabbalah til indvielsesarbejde. Du vil derfor blive introduceret til Kabbalah igennem ceremonielt arbejde og dens relation til Livets Træ\, hvor Kabbalah-visdommen er et selvstudie. \nVi kommer til at gå dybere ind i de 8 stråler og deres veje til ind i Synteseashrammen (det indre gruppearbejde). \nOnline-aftenerne vil være i form af samtaler (dialog). Hvor er du henne? Hvad oplever du i forbindelse med forløbet? I disse runder kan vi lære at se\, hvordan ashrammen påvirker gruppen og den enkelte. Disse opfølgende online-aftener vil være i tidsrummet fra klokken 18.30 til klokken ca. 21.30. Der vil være meditation og en opfølgning af\, hvad der er sket siden den sidste weekend\, vi var sammen. \nÅr 2024 og 2025 vil primært være knyttet til reglerne (grundidéerne) og deres arbejde på det mentale plan. I 2026 og en del af 2027 vil vi glide igennem astral-planets forunderlige verden.  Sidst i 2028 og 2029 vil vi komme ind på det fysiske og æteriske plan. \nOg så vil den en indre Magiker bliver mere aktiv. Også i relation til engle- og devarigerne\, Sol-engle og Nærværelsens-engle\, ”Ånd og Stof”. \n \nPris og tilmelding til aftenskolen kommer \n  \n  \nweekend. 9. – 10. november 2024\nregel 3. Sjælens lys og legemes lys\, principperne og personligheden. Side 107. Til 125.\nAnden stråles vej til discipelskab vi fortsætter Vores studie fra Esoterisk psykologi\nCeremoni: Blomster og lys. \nOnline-aften opfølgning fra sidste møde 04. januar 2024 kl. 18:30 – 21:30 \n2025 Her er det Regel   4 – 6\nweekend. 08. – 09. marts 2025\nregel 4. Lydens skabende arbejde\, videnskaben om åndedrættet. Side 139 til 164.\nTredje stråles vej til indvielse.\nCeremoni: En rejse i livets træ. \nOnline aften: dato 10. juni 2025 kl. 18:30 – 21:30 \nweekend 5. 23. – 24. august 2025\nregel 5. Sjælen og dens tankeformer\, hjerte\, strube og øje – opvækkelsen af centrene. Side 169 til 213.\nFjerde stråles vej til indvielse.\nCeremoni: Integration.\nOnline aften: 30. september 2025 kl. 18:30 – 21:30. \nweekend. 15. – 16. november 2025\nregel 6. Øjets arbejde. Side 223 til 225.\nFemte stråles vej til indvielse.\nCeremoni: Blomster og lys. \nOnline aften: 13. januar 2026 kl. 18:30 – 21:30 \n  \nDe næste år kommer på i 2025 \n 
URL:https://bkimpedersen.dk/event/1957/2025-08-23/
CATEGORIES:Teosofi,Teosofisk fordybelses kursus
ATTACH;FMTTYPE=image/png:https://bkimpedersen.dk/wp-content/uploads/2019/06/Logoteosofi.png
END:VEVENT
END:VCALENDAR