BEGIN:VCALENDAR
VERSION:2.0
PRODID:-//bkimpedersen.dk - ECPv6.15.20//NONSGML v1.0//EN
CALSCALE:GREGORIAN
METHOD:PUBLISH
X-ORIGINAL-URL:https://bkimpedersen.dk
X-WR-CALDESC:Begivenheder for bkimpedersen.dk
REFRESH-INTERVAL;VALUE=DURATION:PT1H
X-Robots-Tag:noindex
X-PUBLISHED-TTL:PT1H
BEGIN:VTIMEZONE
TZID:Europe/Copenhagen
BEGIN:DAYLIGHT
TZOFFSETFROM:+0100
TZOFFSETTO:+0200
TZNAME:CEST
DTSTART:20240331T010000
END:DAYLIGHT
BEGIN:STANDARD
TZOFFSETFROM:+0200
TZOFFSETTO:+0100
TZNAME:CET
DTSTART:20241027T010000
END:STANDARD
BEGIN:DAYLIGHT
TZOFFSETFROM:+0100
TZOFFSETTO:+0200
TZNAME:CEST
DTSTART:20250330T010000
END:DAYLIGHT
BEGIN:STANDARD
TZOFFSETFROM:+0200
TZOFFSETTO:+0100
TZNAME:CET
DTSTART:20251026T010000
END:STANDARD
BEGIN:DAYLIGHT
TZOFFSETFROM:+0100
TZOFFSETTO:+0200
TZNAME:CEST
DTSTART:20260329T010000
END:DAYLIGHT
BEGIN:STANDARD
TZOFFSETFROM:+0200
TZOFFSETTO:+0100
TZNAME:CET
DTSTART:20261025T010000
END:STANDARD
END:VTIMEZONE
BEGIN:VEVENT
DTSTART;TZID=Europe/Copenhagen:20251017T100000
DTEND;TZID=Europe/Copenhagen:20251017T133000
DTSTAMP:20260420T145959
CREATED:20250706T090954Z
LAST-MODIFIED:20250706T091041Z
UID:10000870-1760695200-1760707800@bkimpedersen.dk
SUMMARY:Enoks nøgler fortsat i Himmeland
DESCRIPTION:Enoks nøgler fortsat i Himmeland\n  \n \nGruppen er i andel af bogen\nStudiekredsen fortsætter sit arbejde med “Enoks Nøgler” hen over foråret. Vi dykker ned i Hurtaks fascinerende bog om Enoks hemmeligheder og lader os inspirere af dens visdom. \nSammen vil vi udforske stjernebilledernes betydning\, herunder Nordstjernen\, Orion\, Store Bjørn\, Plejaderne og de tolv tegn i dyrekredsen. Vi begiver os ud på en årtusindlang rejse gennem den græske mytologi og den hebraiske Kabbalah\, hvor Enoks hemmeligheder åbenbarer sig. \nVi vil lære om ærkeenglenes visdom\, forbindelsen til moderne videnskab som matematik og biokemi\, og om “intuitionshuse” omgivet af floder af levende ild. Bogen giver os også dybdegående information om UFO’er og Merkabah. \nI studiekredsen anvender vi en bred vifte af åndsvidenskabelige kilder. Har du lyst til at udfordre din bevidsthed og udforske de hellige skrifters mere ukendte sider\, er denne studiekreds måske noget for dig. \nKontakt mig hvis du er interesse på Mail kim@bkimpedersen.dk \n\nPraktisk information\n\n\n29 august kl: 10:00 – 13:30\n26 september\n17 oktober\n28 november\n12 december\n\n\nMødegange: 5 gange i efteråret 2025\n\nPris pr gang 150\,00 \nEr du interesse så kontakt mig på mail kim@bkimpedersen.dk
URL:https://bkimpedersen.dk/event/enoks-noegler-fortsat-i-himmeland/2025-10-17/
CATEGORIES:Enok's Nøgler
ATTACH;FMTTYPE=image/jpeg:https://bkimpedersen.dk/wp-content/uploads/2020/01/enok_til-salg-1.jpg
END:VEVENT
BEGIN:VEVENT
DTSTART;TZID=Europe/Copenhagen:20251018T100000
DTEND;TZID=Europe/Copenhagen:20251019T170000
DTSTAMP:20260420T145959
CREATED:20250716T075254Z
LAST-MODIFIED:20250716T075254Z
UID:10000888-1760781600-1760893200@bkimpedersen.dk
SUMMARY:Uranus – Transformation i det Indre som i det Ydre.  Aarhus
DESCRIPTION:Uranus – Transformation i det Indre som i det Ydre\n \nI lyset af banebrydende forskning og Fødselshoroskopet Tag med os på en fascinerende rejse ind i Uranus’ energi denne weekend\, hvor vi udforsker dens dybe indvirkning på dit liv gennem\nbanebrydende forskning og dit fødselshoroskop. Uranus\, opdaget i 1781\, markerede et skifte i vores forståelse af solsystemet – før da var Saturn den yderste kendte planet. I kabbalah forbinder man. \n\nUranus med “Hokhmah”\, et symbol på forbindelse og åbenbaring. Uranus’ Energi i Dyrekredsen\n\nVi dykker ned i Uranus’ placeringer i den astrologiske cirkel. I Vandmanden og Vægten møder vi Uranus som et lufttegn\, der inspirerer til intellektuel frihed og nye perspektiver på relationer. I\nVædderen og Løven ser vi Uranus’ transformative ildkraft\, som sætter gang i personlig udvikling og leder til autentisk selvudfoldelse. Begge disse tegn viser Uranus’ rolle som en hierarkisk hersker\, der skubber os mod højere bevidsthed. \n\nDin Personlige Uranus-Nøgle\n\nDin unikke placering af Uranus i dit fødselshoroskop – i tegn\, hus og dekanat – afslører\, hvor vandbærerens energi strømmer ind i dit liv. Det er her\, du har mulighed for at frigøre dig fra gamle\nmønstre og begrænsninger fra “Fiskens Tidsalder” og omfavne en fremtid med innovation og personlig frihed. \n\nMødet med Sindet og Ånden\n\nVi vil udforske\, hvordan Uranus virker gennem Vægtens tegn og dens forbindelse til sindet. Vi undersøger\, hvordan vi kan bruge vores tanker til at forme vores virkelighed\, og hvordan Uranus’ indflydelse kan hjælpe os med at forstå\, at tiden\, som vi kender den\, måske er en illusion. Tænk blot på den banebrydende forskning om placeboeffekten\, som Dr. Joe Dispenza beskriver – et vidnesbyrd om sindets kraft. \n\nVi stiller spørgsmålet: Er det gennem Uranus\, at vi ser en fornyet påvirkning på sindet\, der transformerer energi og begynder at påvirke vores DNA helt ned til de mindste mikrokosmiske verdener? Måske ligger der latente stamceller\, der venter på\, at du skaber et helt nyt liv med Uranus i centrum. \n\nFra Personlighed til Sjæl\n\nWeekenden vil også kaste lys over Løvens tegn\, hvor Uranus gemmer sig bag den hierarkiske Sol. Løven repræsenterer vores personligheds legeme\, som skal transformeres ind i et større\nsjæleligt liv. Denne overgang mellem den personlige og den transpersonlige verden\, som vi kalder personlighedens integration i sjælens eget univers\, vil vi hente inspiration til fra blandt andet\nEnoks Nøgler\, og vi vil dykke ned i både Human Designs BodyGraf og Horoskopet for at give dig en dybere forståelse. Vi glæder os til at byde dig velkommen til en inspirerende weekend\nfyldt med opdagelse og personlig vækst! Er du klar til at låse op for Uranus’ potentiale i dit liv? \nSted og tid:\nPavillonen på Risskov Bibliotek\, Fortebakken 1\, 8240 Risskov\nWeekenden den 18. og 19. oktober – 2025 fra kl. 10.00-17.00\nTilmelding:\nDu kan tilmelde dig workshoppen ved at sende en mail til:\ninspirationsforeningen@gmail.com\nmed oplysninger om: navn\, tlf. nr. og e-mail samt koden W70.\nPrisen er 1.000 kr.\, som indbetales på:\nKonto nr. 1687 – 0000408409 i Middelfart Sparekasse\,\nnår vi har bekræftet din deltagelse.\nI meddelelseslinjen skriver du:\nW70 samt dit navn \nhttp://www.inspirationsforeningen.dk/billeder/pdf/w70.pdf \n 
URL:https://bkimpedersen.dk/event/uranus-transformation-i-det-indre-som-i-det-ydre-aarhus/
LOCATION:Inspirationsforening Århus\, lokalcenter-Dalgas\, Dalgas Avenue 54\, Aarhus C\, 8000\, Denmark
CATEGORIES:Astrologi
ATTACH;FMTTYPE=image/jpeg:https://bkimpedersen.dk/wp-content/uploads/2025/01/Faste-kors-med-kabbalah-2022.jpg
END:VEVENT
END:VCALENDAR