BEGIN:VCALENDAR
VERSION:2.0
PRODID:-//bkimpedersen.dk - ECPv6.15.20//NONSGML v1.0//EN
CALSCALE:GREGORIAN
METHOD:PUBLISH
X-WR-CALNAME:bkimpedersen.dk
X-ORIGINAL-URL:https://bkimpedersen.dk
X-WR-CALDESC:Begivenheder for bkimpedersen.dk
REFRESH-INTERVAL;VALUE=DURATION:PT1H
X-Robots-Tag:noindex
X-PUBLISHED-TTL:PT1H
BEGIN:VTIMEZONE
TZID:Europe/Copenhagen
BEGIN:DAYLIGHT
TZOFFSETFROM:+0100
TZOFFSETTO:+0200
TZNAME:CEST
DTSTART:20240331T010000
END:DAYLIGHT
BEGIN:STANDARD
TZOFFSETFROM:+0200
TZOFFSETTO:+0100
TZNAME:CET
DTSTART:20241027T010000
END:STANDARD
BEGIN:DAYLIGHT
TZOFFSETFROM:+0100
TZOFFSETTO:+0200
TZNAME:CEST
DTSTART:20250330T010000
END:DAYLIGHT
BEGIN:STANDARD
TZOFFSETFROM:+0200
TZOFFSETTO:+0100
TZNAME:CET
DTSTART:20251026T010000
END:STANDARD
BEGIN:DAYLIGHT
TZOFFSETFROM:+0100
TZOFFSETTO:+0200
TZNAME:CEST
DTSTART:20260329T010000
END:DAYLIGHT
BEGIN:STANDARD
TZOFFSETFROM:+0200
TZOFFSETTO:+0100
TZNAME:CET
DTSTART:20261025T010000
END:STANDARD
END:VTIMEZONE
BEGIN:VEVENT
DTSTART;TZID=Europe/Copenhagen:20251105T190000
DTEND;TZID=Europe/Copenhagen:20251105T220000
DTSTAMP:20260420T175946
CREATED:20250114T113257Z
LAST-MODIFIED:20250425T062729Z
UID:10000836-1762369200-1762380000@bkimpedersen.dk
SUMMARY:Starter forfra ENOKS HEMMELIGHEDER 2025-online studiekreds Med Kirsten Puggaard og B. Kim Pedersen
DESCRIPTION:ENOKS HEMMELIGHEDER\n \n  \n2025-online studiekreds\n(1. onsdag i vært månen sept – okt – nov – dec)\nVil du være med i 1 ÅRS ONLINE STUDIEKREDS\, der går i dybden med det esoteriske værk ENOKS HEMMELIGHEDER? \nB. Kim Pedersen og Kirsten Puggaard vil oplæse og gennemgå værket i dialog\, og alle deltagere kan komme med input. Sammen kan vi udforske forbindelserne mellem menneskelig bevidsthed\, kosmisk visdom og guddommelig plan\, sådan som det er formidlet i denne spirituelle og videnskabelige bog skrevet af J.J. Hurtak. \nBogen præsenterer sig som en slags ‘kodebog’ for opvågning\, og den indeholder 64 nøgler eller åbenbaringer\, der forbinder læseren med universets højere dimensioner og energifelter. \nGennem en blanding af mystik\, kvantefysik\, kosmologi og gammel visdom beskriver bogen\, hvordan menneskeheden kan transcendere sine nuværende begrænsninger og deltage i en større evolutionær rejse. Hurtak hævder at have modtaget disse nøgler i en vision\, hvor han blev undervist af højere åndelige væsener og blev introduceret til konceptet om “det levende univers” – en bevidst\, sammenhængende enhed\, som mennesket er en del af. \nBogen indeholder en dybdegående udforskning af emner som: \n\nÅndelige og videnskabelige teknologier\, der kan åbne for nye bevidsthedsniveauer.\nForklaring på UFO-fænomenet og åndsvidenskabens Merkabah-begreb.\nForbindelsen mellem menneskets DNA og kosmisk intelligens.\nEnglehierarkier og deres rolle i at vejlede menneskeheden.\nBetydningen af kærlighed og lys som universets grundlæggende energier.\n\nENOKS HEMMELIGHEDER er ikke blot en bog\, men en vejledning til transformation – en guide for dem\, der søger at forstå deres åndelige potentiale og universets mystiske orden. \nDato: 3. september\, 1. oktober\, 5. november og 3. december. \nTid: Alle aftener kl.19-22 \nTilmelding på denne hjemmeside: www.lemuelbooks.dk/vare/enoks-hemmeligheder-2025-studiekreds \nOBS. Norske deltagere kan betale med norsk Vipps eller overføre direkte til Kims norske konto:
URL:https://bkimpedersen.dk/event/starter-forfra-enoks-hemmeligheder-2025-online-studiekreds-med-kirsten-puggaard-og-b-kim-pedersen/2025-11-05/
LOCATION:LEMUEL BOOKS ApS Aarhus C.
CATEGORIES:Enok's Nøgler
ATTACH;FMTTYPE=image/jpeg:https://bkimpedersen.dk/wp-content/uploads/2020/01/enok_til-salg-1.jpg
END:VEVENT
BEGIN:VEVENT
DTSTART;TZID=Europe/Copenhagen:20251107T080000
DTEND;TZID=Europe/Copenhagen:20251107T170000
DTSTAMP:20260420T175946
CREATED:20250102T104237Z
LAST-MODIFIED:20250102T111454Z
UID:10000808-1762502400-1762534800@bkimpedersen.dk
SUMMARY:En Rejse ind i Fremtiden i lyset af sjælens rige og indre ashramer. Den Gyldne Cirkel Frederiksværk
DESCRIPTION:En Rejse ind i Fremtiden i lyset af\n  \n \n  \nsjælens rige og indre ashramer\n31. jan – 2. februar 2. – 4. april 7. – 9. november\nUndervisning fra fredag kl. 15.00 til søndag kl. 16.00 \n  \n\n\n\n\nVelkommen til et transformativt år\, hvor vi dykker ned i den kommende verdensimpuls og dens indflydelse på vores spiritualitet. \nDenne uddannelse er en rejse ind i hjertet af den nye tidsalder – en rejse for dem\, der tør udforske dybderne af esoterisk visdom og aktivt forme en lysere fremtid. Vi bevæger os ud over overfladen og ind i en verden af subtile energier\, spirituelle kræfter og bevidsthedsudvidelse. \nHvad kan du forvente? \n\nEn dybdegående udforskning af den nye verdensimpuls: Vi afdækker de subtile energier og spirituelle kræfter\, der driver os ind i en ny æra. Vi fordyber os i Asger Lorentsens værker “Den Nye Verdensimpuls” og “Guddommeligt samarbejde” og udforsker Lucille Cedercrans’ perspektiver på discipelskab og økonomi.\nEn aktiv rolle i at forme fremtiden: Du bliver ikke blot en passiv observatør. Vi arbejder sammen om at manifestere en ny virkelighed gennem meditation\, undervisning og nytænkende økonomiske systemer inspireret af Cedercrans’ “Disciple og Økonomi”.\nSamarbejde med de indre verdener: Vi åbner dørene til de indre verdener og etablerer kontakt med de vise mestre\, der guider os på vores vej.\nTræning af indvielser og nye indvielsesveje: Vi baner vejen for en ny æra for spirituel vækst og transformation.\nFokus på mellemrummet mellem indvielser: Vi undersøger de subtile processer og det dybe samarbejde med engle og evolutionens kræfter\, der udfolder sig mellem indvielserne.\n\nFire store temaer gennem året 2025: \n\nGenkomst i Det Nye Hjertecenter: Vi udforsker Kristi genkomst i vores hjerter og den transformerende kraft af guddommelig kærlighed.\nShamballah og dets relation til engle-ordenerne og nye Avatarer: Vi fordyber os i de nye avatarers visdom og deres forbindelse til Shamballa og engle-ordenerne.\nSkabelsen af en ny verdensreligion: Vi undersøger den feminine og maskuline religiøsitet\, åbenbaringen af Guds Rige og fremtidens spiritualitet.\nGuddommeligt Samarbejde: Vi lærer at forbinde os med og samarbejde med engle og andre lysvæsener for at manifestere en højere civilisation på Jorden.\n\nEr du klar til at træde ind i fremtiden? \n\n\n\n\nDenne uddannelse er for dig\, der: \n\n\n\n\n\n\n\n\nLænges efter dybere spirituel indsigt og forståelse\nØnsker at bidrage aktivt til at skabe en bedre verden\nEr åben for at udfordre dine eksisterende overbevisninger\nEr klar til at engagere dig i et transformativt fællesskab\n\n\nTilmelding til Mysterieskolens Esoteriske Uddannelse 2025\n\n\n\n\n\n\n Højdepunkter hver weekend: \n– Fredag aften vil vi have en særlig gæst fra The Order of the Golden Grail der vil guide os gennem en indvielsesvej med meditation og ritualer. \n– Søndag middag er dedikeret til Den Gyldne Cirkels Lystjeneste fra 12 til 13\, en kraftfuld oplevelse af åndelig fornyelse og enhed. \n– Weekendens afslutning vil omfatte en kanaliseringssession søndag eftermiddag\, hvor vi vil modtage visdom og vejledning fra højere bevidstheder. \nLitteratur der læses: \nVores underviser Kim Pedersen vil bruge følgende litteratur som grundlag for hele forløbet: \nAsger Lorensen: Den Nye Verdensimpuls\, Guddommeligt samarbejde\nLucille Cederkrans: Discible og økonomi\nViola Petitt Neal og Shafica Karagulla: Gennem forhænget \n  \nAsger Lorentsens bøger kan købes i Den Gyldne Cirkels webshop som fysisk bog eller e-bog. Discible og økonomi kan fås i Teosofisk forenings webshop og på Den Gyldne Cirkel.\, Den nye verdensimpuls også på Den Gyldne Cirkel. Gennem forhænget kan gratis downloades fra Visdomsnettet https://www.visdomsnettet.dk/a-643/\nVed tilmelding tilbyder vi en servicepakke af det der skal læses\, som pdf-filer. \n  \nVi ser frem til at byde dig velkommen til endnu et år\nhvor vi sammen udforsker de skjulte dybder af vores åndelige rejse og oplever den fornyelse\,\nsom den nye verdensimpuls bringer med sig. \nGenerelle forudsætninger\nDer åbnes for nye deltagere hvert år i januar eller februar.\nJo større baggrund deltagerne har fra esoterisk litteratur\, meditation og åndelige uddannelser\, jo bedre kan uddannelsen følges\, der bygges på en vis grundforståelse af teosofien. Den vigtigste forudsætning er et ønske om at hjælpe det åndelige rige og den guddommelige kærlighed med at integreres i menneskeheden. \nDer må forventes en daglig meditativ praksis og et vist hjemmestudie af litteratur. \nSted\, kontakt: \nAdresse: Den Gyldne Cirkel\, Sonnerupvej 25\, 3300 Frederiksværk\nEmail: info@dengyldnecirkel.dk\nTlf.: 23872424 \nPris og medlemskab\nTilmelding er forbeholdt medlemmer\nDen Esoteriske Uddannelse er gratis for Den Gyldne Cirkels A-medlemmer mod et medlemsgebyr \nSom medlem optages enhver\, som vil støtte Den Gyldne Cirkels formål om at være med til at forberede Den Nye Verdensimpuls og hjælpe Jorden.\nVedtægter for foreningen kan læses på hjemmesiden. \nMedlemmer betaler et kontingent\, som fastlægges for et år ad gangen på generalforsamlingen \nFor 2025 er det DKK 5600 kr. pr år for A-medlemmer (DKK 4700 for arbejdsløse m.fl.). Kontingentet kan opdeles i kvartaler med DKK 1400/1175 pr. kvartal eller pr. måned med DKK 470/395. \nDeltagelse i 2025 forudsætter betaling af kontingent i hele 2025    Ikke medlemmer betaler prisen plus moms
URL:https://bkimpedersen.dk/event/en-rejse-ind-i-fremtiden-i-lyset-af-sjaelens-rige-og-indre-ashramer-den-gyldne-cirkel-frederiksvaerk/2025-11-07/
LOCATION:Den Gyldne Cirkel\, Sonnerupvej 25\, Frederiksværk\, 3300\, Denmark
CATEGORIES:Teosofisk fordybelses kursus
ATTACH;FMTTYPE=image/jpeg:https://bkimpedersen.dk/wp-content/uploads/2023/01/thumbnail_hjertets-visdom.jpg
END:VEVENT
END:VCALENDAR